| lapmix 1.6.0 Yann Ruffieux
 
 | Snapshot Date: 2008-10-16 00:10:09 -0700 (Thu, 16 Oct 2008) |  | URL: https://hedgehog.fhcrc.org/bioconductor/branches/RELEASE_2_2/madman/Rpacks/lapmix |  | Last Changed Rev: 31430 / Revision: 34573 |  | Last Changed Date: 2008-04-29 16:50:18 -0700 (Tue, 29 Apr 2008) | 
 | lamb1 | Linux (SUSE 10.1) / x86_64 | OK | OK |  | 
| wilson2 | Linux (openSUSE 10.3) / x86_64 | OK | [ OK ] |  | 
| wellington | Linux (openSUSE 10.3) / i686 | OK | OK |  | 
| liverpool | Windows Server 2003 R2 (32-bit) / x64 | OK | OK | OK | 
| pitt | Mac OS X Tiger (10.4.11) / i386 | OK | OK | OK | 
* checking for working pdflatex ... OK
* using log directory '/loc/home/biocbuild/bbs-2.2-bioc/meat/lapmix.Rcheck'
* using R version 2.7.2 (2008-08-25)
* using session charset: ISO8859-1
* checking for file 'lapmix/DESCRIPTION' ... OK
* this is package 'lapmix' version '1.6.0'
* checking package dependencies ... OK
* checking if this is a source package ... OK
* checking whether package 'lapmix' can be installed ... OK
* checking package directory ... OK
* checking for portable file names ... OK
* checking for sufficient/correct file permissions ... OK
* checking DESCRIPTION meta-information ... OK
* checking top-level files ... OK
* checking index information ... OK
* checking package subdirectories ... OK
* checking R files for non-ASCII characters ... OK
* checking R files for syntax errors ... OK
* checking whether the package can be loaded ... OK
* checking whether the package can be loaded with stated dependencies ... OK
* checking for unstated dependencies in R code ... OK
* checking S3 generic/method consistency ... OK
* checking replacement functions ... OK
* checking foreign function calls ... OK
* checking R code for possible problems ... OK
* checking Rd files ... OK
* checking Rd cross-references ... OK
* checking for missing documentation entries ... OK
* checking for code/documentation mismatches ... OK
* checking Rd \usage sections ... OK
* creating lapmix-Ex.R ... OK
* checking examples ... OK
* checking package vignettes in 'inst/doc' ... OK
* creating lapmix-manual.tex ... OK
* checking lapmix-manual.tex using pdflatex ... OK
 
* Installing *source* package 'lapmix' ...
** R
** inst
** help
 >>> Building/Updating help pages for package 'lapmix'
     Formats: text html latex example 
  lap.volcanoplot                   text    html    latex   example
  lapmix-internal                   text    html    latex
  lapmix.Fit                        text    html    latex   example
  laptopTable                       text    html    latex   example
** building package indices ...
* DONE (lapmix)