| idiogram 1.14.0 Karl J. Dykema
 
 | Snapshot Date: 2008-10-16 00:10:09 -0700 (Thu, 16 Oct 2008) |  | URL: https://hedgehog.fhcrc.org/bioconductor/branches/RELEASE_2_2/madman/Rpacks/idiogram |  | Last Changed Rev: 31430 / Revision: 34573 |  | Last Changed Date: 2008-04-29 16:50:18 -0700 (Tue, 29 Apr 2008) | 
 | lamb1 | Linux (SUSE 10.1) / x86_64 | OK | OK |  | 
| wilson2 | Linux (openSUSE 10.3) / x86_64 | OK | OK |  | 
| wellington | Linux (openSUSE 10.3) / i686 | OK | OK |  | 
| liverpool | Windows Server 2003 R2 (32-bit) / x64 | OK | OK | OK | 
| pitt | Mac OS X Tiger (10.4.11) / i386 | OK | OK | [ OK ] | 
                INSTALLATION WITH 'R CMD INSTALL idiogram_1.14.0.tar.gz'
* Installing to library 'idiogram.buildbin-libdir'
* Installing *source* package 'idiogram' ...
** R
** data
**  moving datasets to lazyload DB
** inst
** help
 >>> Building/Updating help pages for package 'idiogram'
     Formats: text html latex example 
  Hs.cytoband                       text    html    latex   example
  buildChromLocation.2              text    html    latex   example
  cytoband                          text    html    latex   example
  idiograb                          text    html    latex   example
  idiogram                          text    html    latex   example
  idiogramExample                   text    html    latex   example
** building package indices ...
* DONE (idiogram)