| bioDist 1.12.0 Biocore Team c/o BioC user list
 
 | Snapshot Date: 2008-10-16 00:10:09 -0700 (Thu, 16 Oct 2008) |  | URL: https://hedgehog.fhcrc.org/bioconductor/branches/RELEASE_2_2/madman/Rpacks/bioDist |  | Last Changed Rev: 31430 / Revision: 34573 |  | Last Changed Date: 2008-04-29 16:50:18 -0700 (Tue, 29 Apr 2008) | 
 | lamb1 | Linux (SUSE 10.1) / x86_64 | OK | OK |  | 
| wilson2 | Linux (openSUSE 10.3) / x86_64 | OK | OK |  | 
| wellington | Linux (openSUSE 10.3) / i686 | OK | OK |  | 
| liverpool | Windows Server 2003 R2 (32-bit) / x64 | OK | OK | OK | 
| pitt | Mac OS X Tiger (10.4.11) / i386 | OK | OK | [ OK ] | 
                INSTALLATION WITH 'R CMD INSTALL bioDist_1.12.0.tar.gz'
* Installing to library 'bioDist.buildbin-libdir'
* Installing *source* package 'bioDist' ...
** R
** inst
** help
Note: removing empty section \details
 >>> Building/Updating help pages for package 'bioDist'
     Formats: text html latex example 
  KLD.matrix                        text    html    latex   example
  KLdist.matrix                     text    html    latex   example
  closest.top                       text    html    latex   example
  cor.dist                          text    html    latex   example
  euc                               text    html    latex   example
  man                               text    html    latex   example
  mutualInfo                        text    html    latex   example
  spearman.dist                     text    html    latex   example
  tau.dist                          text    html    latex   example
** building package indices ...
* DONE (bioDist)