| apComplex 2.6.0 Denise Scholtens
 
 | Snapshot Date: 2008-10-16 00:10:09 -0700 (Thu, 16 Oct 2008) |  | URL: https://hedgehog.fhcrc.org/bioconductor/branches/RELEASE_2_2/madman/Rpacks/apComplex |  | Last Changed Rev: 31430 / Revision: 34573 |  | Last Changed Date: 2008-04-29 16:50:18 -0700 (Tue, 29 Apr 2008) | 
 | lamb1 | Linux (SUSE 10.1) / x86_64 | OK | OK |  | 
| wilson2 | Linux (openSUSE 10.3) / x86_64 | OK | OK |  | 
| wellington | Linux (openSUSE 10.3) / i686 | OK | OK |  | 
| liverpool | Windows Server 2003 R2 (32-bit) / x64 | [ OK ] | OK | OK | 
| pitt | Mac OS X Tiger (10.4.11) / i386 | OK | OK | OK | 
* checking for file 'apComplex/DESCRIPTION' ... OK
* preparing 'apComplex':
* checking DESCRIPTION meta-information ... OK
* installing the package to re-build vignettes
installing R.css in E:/biocbld/bbs-2.2-bioc/tmpdir/Rinst227234048
---------- Making package apComplex ------------
  adding build stamp to DESCRIPTION
  installing R files
  installing inst files
  installing data files
  installing man source files
  installing indices
  not zipping data
  installing help
 >>> Building/Updating help pages for package 'apComplex'
     Formats: text html latex example chm 
  FilteredEstimates                 text    html    latex   example chm
  HMSPCI                            text    html    latex   example chm
  Krogan                            text    html    latex   example chm
  LCjoin                            text    html    latex   example chm
  MBMEcHMSPCI                       text    html    latex   example chm
  MBMEcKrogan                       text    html    latex   example chm
  MBMEcTAP                          text    html    latex   example chm
  TAP                               text    html    latex   example chm
  apEX                              text    html    latex   example chm
  bhmaxSubgraph                     text    html    latex   example chm
  findComplexes                     text    html    latex   example chm
  gavinBP2006                       text    html    latex   example chm
  kroganBPMat2006                   text    html    latex   example chm
  mergeComplexes                    text    html    latex   example chm
  plotComplex                       text    html    latex   example chm
  sortComplexes                     text    html    latex   example chm
  yNameTAP                          text    html    latex   example chm
  yTAP                              text    html    latex   example chm
Microsoft HTML Help Compiler 4.74.8702
Compiling e:\biocbld\bbs-2.2-bioc\meat\apComplex\chm\apComplex.chm
Compile time: 0 minutes, 1 second
19	Topics
97	Local links
0	Internet links
1	Graphic
Created e:\biocbld\bbs-2.2-bioc\meat\apComplex\chm\apComplex.chm, 37,004 bytes
Compression decreased file by 30,126 bytes.
  adding MD5 sums
* DONE (apComplex)
* creating vignettes ... OK
* removing junk files
* checking for LF line-endings in source and make files
* checking for empty or unneeded directories
* building 'apComplex_2.6.0.tar.gz'