| TypeInfo 1.6.0 Duncan Temple Lang
 
 | Snapshot Date: 2008-10-16 00:10:09 -0700 (Thu, 16 Oct 2008) |  | URL: https://hedgehog.fhcrc.org/bioconductor/branches/RELEASE_2_2/madman/Rpacks/TypeInfo |  | Last Changed Rev: 31430 / Revision: 34573 |  | Last Changed Date: 2008-04-29 16:50:18 -0700 (Tue, 29 Apr 2008) | 
 | lamb1 | Linux (SUSE 10.1) / x86_64 | OK | OK |  | 
| wilson2 | Linux (openSUSE 10.3) / x86_64 | OK | OK |  | 
| wellington | Linux (openSUSE 10.3) / i686 | OK | OK |  | 
| liverpool | Windows Server 2003 R2 (32-bit) / x64 | [ OK ] | OK | OK | 
| pitt | Mac OS X Tiger (10.4.11) / i386 | OK | OK | OK | 
* checking for file 'TypeInfo/DESCRIPTION' ... OK
* preparing 'TypeInfo':
* checking DESCRIPTION meta-information ... OK
* installing the package to re-build vignettes
installing R.css in E:/biocbld/bbs-2.2-bioc/tmpdir/Rinst244486254
---------- Making package TypeInfo ------------
  adding build stamp to DESCRIPTION
  installing NAMESPACE file and metadata
  installing R files
  installing inst files
  preparing package TypeInfo for lazy loading
  installing man source files
  installing indices
  installing help
Note: removing empty section \note
Note: removing empty section \references
Note: removing empty section \examples
Note: removing empty section \note
Note: removing empty section \references
Note: removing empty section \examples
Note: removing empty section \references
Note: removing empty section \references
Note: removing empty section \note
Note: removing empty section \references
Note: removing empty section \note
Note: removing empty section \references
Note: removing empty section \details
Note: removing empty section \note
Note: removing empty section \references
Note: removing empty section \details
Note: removing empty section \note
Note: removing empty section \references
Note: removing empty section \note
Note: removing empty section \references
Note: removing empty section \note
Note: removing empty section \references
Note: removing empty section \details
Note: removing empty section \note
Note: removing empty section \references
Note: removing empty section \details
Note: removing empty section \note
Note: removing empty section \references
Note: removing empty section \details
Note: removing empty section \note
Note: removing empty section \references
Note: removing empty section \details
Note: removing empty section \note
Note: removing empty section \references
Note: removing empty section \examples
Note: removing empty section \examples
Note: removing empty section \details
Note: removing empty section \details
Note: removing empty section \details
Note: removing empty section \references
Note: removing empty section \examples
Note: removing empty section \details
Note: removing empty section \references
Note: removing empty section \examples
Note: removing empty section \details
Note: removing empty section \note
Note: removing empty section \references
Note: removing empty section \examples
Note: removing empty section \details
Note: removing empty section \note
Note: removing empty section \references
Note: removing empty section \examples
Note: removing empty section \details
Note: removing empty section \note
Note: removing empty section \references
Note: removing empty section \details
Note: removing empty section \note
Note: removing empty section \references
Note: removing empty section \details
Note: removing empty section \note
Note: removing empty section \references
Note: removing empty section \details
Note: removing empty section \note
Note: removing empty section \references
Note: removing empty section \details
Note: removing empty section \examples
Note: removing empty section \details
Note: removing empty section \examples
 >>> Building/Updating help pages for package 'TypeInfo'
     Formats: text html latex example chm 
  ClassNameOrExpression-class       text    html    latex           chm
  DynamicTypeTest-class             text    html    latex   example chm
  IndependentTypeSpecification-clas text    html    latex   example chm
  IndependentTypeSpecification      text    html    latex   example chm
  NamedTypeTest-class               text    html    latex   example chm
  ReturnTypeSpecification           text    html    latex   example chm
  SimultaneousTypeSpecification     text    html    latex   example chm
  TypedSignature-class              text    html    latex           chm
  TypedSignature                    text    html    latex   example chm
  checkArgs                         text    html    latex   example chm
  checkReturnValue                  text    html    latex           chm
  hasParameterType                  text    html    latex   example chm
  paramNames                        text    html    latex           chm
  rewriteTypeCheck                  text    html    latex   example chm
  showTypeInfo                      text    html    latex   example chm
  typeInfo                          text    html    latex           chm
Microsoft HTML Help Compiler 4.74.8702
Compiling e:\biocbld\bbs-2.2-bioc\meat\TypeInfo\chm\TypeInfo.chm
Compile time: 0 minutes, 0 seconds
17	Topics
163	Local links
1	Internet link
1	Graphic
Created e:\biocbld\bbs-2.2-bioc\meat\TypeInfo\chm\TypeInfo.chm, 41,157 bytes
Compression decreased file by 41,752 bytes.
  adding MD5 sums
* DONE (TypeInfo)
* creating vignettes ... OK
* removing junk files
* checking for LF line-endings in source and make files
* checking for empty or unneeded directories
* building 'TypeInfo_1.6.0.tar.gz'