| SemSim 1.6.0 Xiang Guo
 
 | Snapshot Date: 2008-10-16 00:10:09 -0700 (Thu, 16 Oct 2008) |  | URL: https://hedgehog.fhcrc.org/bioconductor/branches/RELEASE_2_2/madman/Rpacks/SemSim |  | Last Changed Rev: 31430 / Revision: 34573 |  | Last Changed Date: 2008-04-29 16:50:18 -0700 (Tue, 29 Apr 2008) | 
 | lamb1 | Linux (SUSE 10.1) / x86_64 | OK | OK |  | 
| wilson2 | Linux (openSUSE 10.3) / x86_64 | OK | OK |  | 
| wellington | Linux (openSUSE 10.3) / i686 | OK | OK |  | 
| liverpool | Windows Server 2003 R2 (32-bit) / x64 | [ OK ] | OK | OK | 
| pitt | Mac OS X Tiger (10.4.11) / i386 | OK | OK | OK | 
* checking for file 'SemSim/DESCRIPTION' ... OK
* preparing 'SemSim':
* checking DESCRIPTION meta-information ... OK
* installing the package to re-build vignettes
installing R.css in E:/biocbld/bbs-2.2-bioc/tmpdir/Rinst155236169
---------- Making package SemSim ------------
  adding build stamp to DESCRIPTION
  installing R files
  installing inst files
  installing data files
  installing man source files
  installing indices
  not zipping data
  installing help
 >>> Building/Updating help pages for package 'SemSim'
     Formats: text html latex example chm 
  GOCount                           text    html    latex           chm
  Schreiber                         text    html    latex   example chm
  SemSim-internal                   text    html    latex           chm
  SemSim-package                    text    html    latex           chm
  geneSim                           text    html    latex   example chm
  mgeneSim                          text    html    latex   example chm
  mtermSim                          text    html    latex   example chm
  termSim                           text    html    latex   example chm
Microsoft HTML Help Compiler 4.74.8702
Compiling e:\biocbld\bbs-2.2-bioc\meat\SemSim\chm\SemSim.chm
Compile time: 0 minutes, 0 seconds
9	Topics
25	Local links
0	Internet links
1	Graphic
Created e:\biocbld\bbs-2.2-bioc\meat\SemSim\chm\SemSim.chm, 23,483 bytes
Compression decreased file by 1,234 bytes.
  adding MD5 sums
* DONE (SemSim)
* creating vignettes ... OK
* removing junk files
* checking for LF line-endings in source and make files
* checking for empty or unneeded directories
* building 'SemSim_1.6.0.tar.gz'