RdbiPgSQL 1.14.0 Jianhua Zhang
 | Snapshot Date: 2008-10-16 00:10:09 -0700 (Thu, 16 Oct 2008) |  | URL: https://hedgehog.fhcrc.org/bioconductor/branches/RELEASE_2_2/madman/Rpacks/RdbiPgSQL |  | Last Changed Rev: 31430 / Revision: 34573 |  | Last Changed Date: 2008-04-29 16:50:18 -0700 (Tue, 29 Apr 2008) |  
  | lamb1  | Linux (SUSE 10.1) / x86_64  |  OK  |  OK  |  | 
| wilson2  | Linux (openSUSE 10.3) / x86_64  | [ OK ] |  OK  |  | 
| wellington  | Linux (openSUSE 10.3) / i686  |  OK  |  OK  |  | 
| liverpool  | Windows Server 2003 R2 (32-bit) / x64  | N O T   S U P P O R T E D | 
| pitt  | Mac OS X Tiger (10.4.11) / i386  |  OK  |  OK  |  OK  | 
* checking for file 'RdbiPgSQL/DESCRIPTION' ... OK
* preparing 'RdbiPgSQL':
* checking DESCRIPTION meta-information ... OK
* cleaning src
* running cleanup
* removing junk files
* checking for LF line-endings in source and make files
* checking for empty or unneeded directories
* building 'RdbiPgSQL_1.14.0.tar.gz'