| RbcBook1 1.8.0 Vince Carey
 
 | Snapshot Date: 2008-10-16 00:10:09 -0700 (Thu, 16 Oct 2008) |  | URL: https://hedgehog.fhcrc.org/bioconductor/branches/RELEASE_2_2/madman/Rpacks/RbcBook1 |  | Last Changed Rev: 31430 / Revision: 34573 |  | Last Changed Date: 2008-04-29 16:50:18 -0700 (Tue, 29 Apr 2008) | 
 | lamb1 | Linux (SUSE 10.1) / x86_64 | OK | OK |  | 
| wilson2 | Linux (openSUSE 10.3) / x86_64 | OK | OK |  | 
| wellington | Linux (openSUSE 10.3) / i686 | OK | OK |  | 
| liverpool | Windows Server 2003 R2 (32-bit) / x64 | [ OK ] | OK | OK | 
| pitt | Mac OS X Tiger (10.4.11) / i386 | OK | OK | OK | 
* checking for file 'RbcBook1/DESCRIPTION' ... OK
* preparing 'RbcBook1':
* checking DESCRIPTION meta-information ... OK
* installing the package to re-build vignettes
installing R.css in E:/biocbld/bbs-2.2-bioc/tmpdir/Rinst578086407
---------- Making package RbcBook1 ------------
  adding build stamp to DESCRIPTION
  installing R files
  installing inst files
  installing data files
  installing man source files
  installing indices
  not zipping data
  installing help
Note: removing empty section \arguments
Note: removing empty section \arguments
 >>> Building/Updating help pages for package 'RbcBook1'
     Formats: text html latex example chm 
  bcStangle                         text    html    latex   example chm
  bcSweave                          text    html    latex   example chm
  bcr                               text    html    latex   example chm
  checkVerbatimLines                text    html    latex   example chm
  imageSize                         text    html    latex   example chm
  perf                              text    html    latex   example chm
  requireAllBook1                   text    html    latex   example chm
  rpart2gNEL                        text    html    latex   example chm
Microsoft HTML Help Compiler 4.74.8702
Compiling e:\biocbld\bbs-2.2-bioc\meat\RbcBook1\chm\RbcBook1.chm
Compile time: 0 minutes, 0 seconds
9	Topics
31	Local links
0	Internet links
1	Graphic
Created e:\biocbld\bbs-2.2-bioc\meat\RbcBook1\chm\RbcBook1.chm, 24,065 bytes
Compression decreased file by 4,750 bytes.
  adding MD5 sums
* DONE (RbcBook1)
* creating vignettes ... OK
* removing junk files
* checking for LF line-endings in source and make files
* checking for empty or unneeded directories
* building 'RbcBook1_1.8.0.tar.gz'