| GeneSpring 2.14.0 Thon de Boer
 
 | Snapshot Date: 2008-10-16 00:10:09 -0700 (Thu, 16 Oct 2008) |  | URL: https://hedgehog.fhcrc.org/bioconductor/branches/RELEASE_2_2/madman/Rpacks/GeneSpring |  | Last Changed Rev: 31430 / Revision: 34573 |  | Last Changed Date: 2008-04-29 16:50:18 -0700 (Tue, 29 Apr 2008) | 
 | lamb1 | Linux (SUSE 10.1) / x86_64 | OK | OK |  | 
| wilson2 | Linux (openSUSE 10.3) / x86_64 | OK | OK |  | 
| wellington | Linux (openSUSE 10.3) / i686 | OK | OK |  | 
| liverpool | Windows Server 2003 R2 (32-bit) / x64 | OK | OK | [ OK ] | 
| pitt | Mac OS X Tiger (10.4.11) / i386 | OK | OK | OK | 
installing R.css in E:/biocbld/bbs-2.2-bioc/meat/GeneSpring.buildbin-libdir
Using auto-selected zip options ''
---------- Making package GeneSpring ------------
  adding build stamp to DESCRIPTION
  installing R files
  installing inst files
  preparing package GeneSpring for lazy loading
Loading required package: Biobase
Loading required package: tools
Welcome to Bioconductor
  Vignettes contain introductory material. To view, type
  'openVignette()'. To cite Bioconductor, see
  'citation("Biobase")' and for packages 'citation(pkgname)'.
  installing man source files
  installing indices
  installing help
Note: removing empty section \examples
Note: removing empty section \examples
Note: removing empty section \seealso
Note: removing empty section \seealso
Note: removing empty section \examples
Note: removing empty section \examples
 >>> Building/Updating help pages for package 'GeneSpring'
     Formats: text html latex example chm 
  GSint                             text    html    latex   example chm
  GSint2BC                          text    html    latex   example chm
  GSload.exp                        text    html    latex           chm
  GSload.genelist                   text    html    latex   example chm
  GSload.int                        text    html    latex           chm
  GSsave.exp                        text    html    latex   example chm
Microsoft HTML Help Compiler 4.74.8702
Compiling e:\biocbld\bbs-2.2-bioc\meat\R.INSTALL.1168\GeneSpring\chm\GeneSpring.chm
Compile time: 0 minutes, 0 seconds
7	Topics
40	Local links
6	Internet links
1	Graphic
Created e:\biocbld\bbs-2.2-bioc\meat\R.INSTALL.1168\GeneSpring\chm\GeneSpring.chm, 30,999 bytes
Compression decreased file by 11,185 bytes.
  adding MD5 sums
packaged installation of package 'GeneSpring' as GeneSpring_2.14.0.zip
* DONE (GeneSpring)