| vbmp 1.7.2 Nicola Lama
 
 | Snapshot Date: 2008-04-09 00:13:10 -0700 (Wed, 09 Apr 2008) |  | URL: https://hedgehog.fhcrc.org/bioconductor/trunk/madman/Rpacks/vbmp |  | Last Changed Rev: 29468 / Revision: 30951 |  | Last Changed Date: 2008-01-09 16:22:05 -0800 (Wed, 09 Jan 2008) | 
 | lamb1 | Linux (SUSE 10.1) / x86_64 | OK | OK |  | 
| wilson2 | Linux (openSUSE 10.3) / x86_64 | OK | OK |  | 
| wellington | Linux (openSUSE 10.3) / i686 | OK | OK |  | 
| liverpool | Windows Server 2003 R2 (32-bit) / x64 | OK | OK | [ OK ] | 
| pelham | Mac OS X Leopard (10.5.1) / i386 | OK | OK | OK | 
installing R.css in E:/biocbld/bbs-2.2-bioc/meat/vbmp.buildbin-libdir
Using auto-selected zip options 'vbmp-ZIPDATA=zip'
---------- Making package vbmp ------------
  adding build stamp to DESCRIPTION
  installing NAMESPACE file and metadata
  installing R files
  installing inst files
  installing data files
  preparing package vbmp for lazy loading
  installing man source files
  installing indices
  zipping data
  installing help
 >>> Building/Updating help pages for package 'vbmp'
     Formats: text html latex example chm 
  BRCA12                            text    html    latex           chm
  covParams                         text    html    latex           chm
  lowerBound                        text    html    latex           chm
  plotDiagnostics                   text    html    latex           chm
  predClass                         text    html    latex           chm
  predError                         text    html    latex           chm
  predLik                           text    html    latex           chm
  predictCPP                        text    html    latex           chm
  vbmp                              text    html    latex   example chm
Microsoft HTML Help Compiler 4.74.8702
Compiling e:\biocbld\bbs-2.2-bioc\meat\R.INSTALL.3140\vbmp\chm\vbmp.chm
Compile time: 0 minutes, 1 second
10	Topics
31	Local links
1	Internet link
1	Graphic
Created e:\biocbld\bbs-2.2-bioc\meat\R.INSTALL.3140\vbmp\chm\vbmp.chm, 26,863 bytes
Compression decreased file by 2,600 bytes.
  adding MD5 sums
packaged installation of package 'vbmp' as vbmp_1.7.2.zip
* DONE (vbmp)