| simulatorAPMS 1.11.0 Tony Chiang
 
 | Snapshot Date: 2008-04-09 00:13:10 -0700 (Wed, 09 Apr 2008) |  | URL: https://hedgehog.fhcrc.org/bioconductor/trunk/madman/Rpacks/simulatorAPMS |  | Last Changed Rev: 27716 / Revision: 30951 |  | Last Changed Date: 2007-10-02 18:16:39 -0700 (Tue, 02 Oct 2007) | 
 | lamb1 | Linux (SUSE 10.1) / x86_64 | OK | OK |  | 
| wilson2 | Linux (openSUSE 10.3) / x86_64 | OK | OK |  | 
| wellington | Linux (openSUSE 10.3) / i686 | OK | OK |  | 
| liverpool | Windows Server 2003 R2 (32-bit) / x64 | [ OK ] | OK | OK | 
| pelham | Mac OS X Leopard (10.5.1) / i386 | OK | OK | OK | 
* checking for file 'simulatorAPMS/DESCRIPTION' ... OK
* preparing 'simulatorAPMS':
* checking DESCRIPTION meta-information ... OK
* installing the package to re-build vignettes
installing R.css in E:/biocbld/bbs-2.2-bioc/tmpdir/Rinst400051916
---------- Making package simulatorAPMS ------------
  adding build stamp to DESCRIPTION
  installing R files
  installing inst files
  installing data files
  installing man source files
  installing indices
  not zipping data
  installing help
Note: removing empty section \source
Note: removing empty section \references
Note: removing empty section \source
Note: removing empty section \references
Note: removing empty section \source
Note: removing empty section \references
Note: removing empty section \source
Note: removing empty section \references
Note: removing empty section \details
Note: removing empty section \details
Note: removing empty section \details
Note: removing empty section \details
Note: unmatched right brace in 'filteredProt' on or after line 14
Note: unmatched right brace in 'filteredProt.Rd' on or after line 14
Note: removing empty section \source
Note: removing empty section \references
Note: removing empty section \source
Note: removing empty section \references
Note: removing empty section \source
Note: removing empty section \references
Note: removing empty section \source
Note: removing empty section \references
Note: removing empty section \source
Note: removing empty section \details
Note: removing empty section \references
Note: removing empty section \source
Note: removing empty section \details
Note: removing empty section \references
Note: removing empty section \source
Note: removing empty section \references
Note: removing empty section \source
Note: removing empty section \references
Note: removing empty section \source
Note: removing empty section \references
Note: removing empty section \source
Note: removing empty section \references
Note: removing empty section \source
Note: removing empty section \details
Note: removing empty section \references
Note: removing empty section \source
Note: removing empty section \details
Note: removing empty section \references
Note: removing empty section \source
Note: removing empty section \references
Note: removing empty section \source
Note: removing empty section \references
Note: removing empty section \source
Note: removing empty section \details
Note: removing empty section \references
Note: removing empty section \source
Note: removing empty section \details
Note: removing empty section \references
Note: removing empty section \source
Note: removing empty section \details
Note: removing empty section \references
Note: removing empty section \source
Note: removing empty section \details
Note: removing empty section \references
Note: removing empty section \source
Note: removing empty section \details
Note: removing empty section \references
Note: removing empty section \source
Note: removing empty section \details
Note: removing empty section \references
 >>> Building/Updating help pages for package 'simulatorAPMS'
     Formats: text html latex example chm 
  APComEX                           text    html    latex   example chm
  PPIEX                             text    html    latex   example chm
  TSNMatrix                         text    html    latex   example chm
  applyDeformationError             text    html    latex   example chm
  applyFNErrors                     text    html    latex   example chm
  applyFPErrors                     text    html    latex   example chm
  applyStickyError                  text    html    latex   example chm
  compIndep                         text    html    latex   example chm
  filteredProt                      text    html    latex   example chm
  fullSimEX                         text    html    latex   example chm
  missedProtEX                      text    html    latex   example chm
  missedProtHMSPCI                  text    html    latex   example chm
  recordSticky                      text    html    latex   example chm
  runAPComplex                      text    html    latex   example chm
  runCompIndep                      text    html    latex   example chm
  runSimEX                          text    html    latex   example chm
  runSimulators                     text    html    latex   example chm
  simEX                             text    html    latex   example chm
  simulator                         text    html    latex   example chm
  simulatorD                        text    html    latex   example chm
  simulatorS                        text    html    latex   example chm
  vBaits                            text    html    latex   example chm
  vBaitsEX                          text    html    latex   example chm
  vDeformEX                         text    html    latex   example chm
  vDeformed                         text    html    latex   example chm
  vDeformedEX                       text    html    latex   example chm
  vStickyEX                         text    html    latex   example chm
Microsoft HTML Help Compiler 4.74.8702
Compiling e:\biocbld\bbs-2.2-bioc\meat\simulatorAPMS\chm\simulatorAPMS.chm
Compile time: 0 minutes, 2 seconds
28	Topics
78	Local links
0	Internet links
1	Graphic
Created e:\biocbld\bbs-2.2-bioc\meat\simulatorAPMS\chm\simulatorAPMS.chm, 36,594 bytes
Compression decreased file by 29,656 bytes.
  adding MD5 sums
* DONE (simulatorAPMS)
* creating vignettes ... OK
* removing junk files
* checking for LF line-endings in source and make files
* checking for empty or unneeded directories
* building 'simulatorAPMS_1.11.0.tar.gz'