| rtracklayer 0.1.5 Michael Lawrence
 
 | Snapshot Date: 2008-04-09 00:13:10 -0700 (Wed, 09 Apr 2008) |  | URL: https://hedgehog.fhcrc.org/bioconductor/trunk/madman/Rpacks/rtracklayer |  | Last Changed Rev: 30878 / Revision: 30951 |  | Last Changed Date: 2008-04-07 07:15:31 -0700 (Mon, 07 Apr 2008) | 
 | lamb1 | Linux (SUSE 10.1) / x86_64 | OK | OK |  | 
| wilson2 | Linux (openSUSE 10.3) / x86_64 | OK | OK |  | 
| wellington | Linux (openSUSE 10.3) / i686 | OK | OK |  | 
| liverpool | Windows Server 2003 R2 (32-bit) / x64 | [ OK ] | WARNINGS | OK | 
| pelham | Mac OS X Leopard (10.5.1) / i386 | OK | OK | OK | 
* checking for file 'rtracklayer/DESCRIPTION' ... OK
* preparing 'rtracklayer':
* checking DESCRIPTION meta-information ... OK
* installing the package to re-build vignettes
installing R.css in E:/biocbld/bbs-2.2-bioc/tmpdir/Rinst599626147
---------- Making package rtracklayer ------------
  adding build stamp to DESCRIPTION
  installing NAMESPACE file and metadata
  installing R files
  installing inst files
  preparing package rtracklayer for lazy loading
Loading required package: Biobase
Loading required package: tools
Welcome to Bioconductor
  Vignettes contain introductory material. To view, type
  'openVignette()'. To cite Bioconductor, see
  'citation("Biobase")' and for packages 'citation(pkgname)'.
Loading required package: RCurl
  installing man source files
  installing indices
  installing help
 >>> Building/Updating help pages for package 'rtracklayer'
     Formats: text html latex example chm 
  activeView-methods                text    html    latex   example chm
  argoSession-class                 text    html    latex           chm
  argoView-class                    text    html    latex           chm
  basicTrackLine-class              text    html    latex           chm
  browseGenome                      text    html    latex   example chm
  browserSession-class              text    html    latex           chm
  browserSession-methods            text    html    latex           chm
  browserView-class                 text    html    latex           chm
  browserView-methods               text    html    latex   example chm
  browserViews-methods              text    html    latex   example chm
  chrid-class                       text    html    latex           chm
  chrid-methods                     text    html    latex   example chm
  dataVals-methods                  text    html    latex   example chm
  export                            text    html    latex   example chm
  export.gff                        text    html    latex   example chm
  featChrom                         text    html    latex           chm
  genomeBrowsers                    text    html    latex           chm
  genomeSegment-class               text    html    latex           chm
  genomeSegment-methods             text    html    latex   example chm
  genomeSequence-methods            text    html    latex           chm
  import                            text    html    latex   example chm
  import.gff                        text    html    latex   example chm
  laySequence-methods               text    html    latex           chm
  layTrack-methods                  text    html    latex   example chm
  trackData                         text    html    latex           chm
  trackSet-class                    text    html    latex           chm
  trackSet-methods                  text    html    latex   example chm
  trackSets-class                   text    html    latex           chm
  trackSets-methods                 text    html    latex           chm
  tracks-methods                    text    html    latex           chm
  ucscSession-class                 text    html    latex           chm
  ucscTable                         text    html    latex           chm
  ucscTrackLine-class               text    html    latex           chm
  ucscTrackModes-class              text    html    latex           chm
  ucscTrackModes-methods            text    html    latex   example chm
  ucscTrackSet-class                text    html    latex           chm
  ucscView-class                    text    html    latex           chm
  wigTrackLine-class                text    html    latex           chm
Microsoft HTML Help Compiler 4.74.8702
Compiling e:\biocbld\bbs-2.2-bioc\meat\rtracklayer\chm\rtracklayer.chm
Compile time: 0 minutes, 1 second
39	Topics
425	Local links
15	Internet links
1	Graphic
Created e:\biocbld\bbs-2.2-bioc\meat\rtracklayer\chm\rtracklayer.chm, 57,178 bytes
Compression decreased file by 123,030 bytes.
  adding MD5 sums
* DONE (rtracklayer)
* creating vignettes ... OK
* removing junk files
* checking for LF line-endings in source and make files
* checking for empty or unneeded directories
* building 'rtracklayer_0.1.5.tar.gz'