| ontoTools 1.15.1 Vince Carey
 
 | Snapshot Date: 2008-04-09 00:13:10 -0700 (Wed, 09 Apr 2008) |  | URL: https://hedgehog.fhcrc.org/bioconductor/trunk/madman/Rpacks/ontoTools |  | Last Changed Rev: 30735 / Revision: 30951 |  | Last Changed Date: 2008-03-28 10:54:00 -0700 (Fri, 28 Mar 2008) | 
 | lamb1 | Linux (SUSE 10.1) / x86_64 | OK | OK |  | 
| wilson2 | Linux (openSUSE 10.3) / x86_64 | OK | OK |  | 
| wellington | Linux (openSUSE 10.3) / i686 | OK | OK |  | 
| liverpool | Windows Server 2003 R2 (32-bit) / x64 | OK | OK | [ OK ] | 
| pelham | Mac OS X Leopard (10.5.1) / i386 | OK | OK | OK | 
installing R.css in E:/biocbld/bbs-2.2-bioc/meat/ontoTools.buildbin-libdir
Using auto-selected zip options 'ontoTools-ZIPDATA=zip'
---------- Making package ontoTools ------------
  adding build stamp to DESCRIPTION
  installing R files
  installing inst files
  installing data files
  preparing package ontoTools for lazy loading
Loading required package: graph
Loading required package: SparseM
Loading required package: GO.db
Loading required package: AnnotationDbi
Loading required package: Biobase
Loading required package: tools
Welcome to Bioconductor
  Vignettes contain introductory material. To view, type
  'openVignette()'. To cite Bioconductor, see
  'citation("Biobase")' and for packages 'citation(pkgname)'.
Loading required package: DBI
Loading required package: RSQLite
Loading required package: annotate
Loading required package: xtable
Creating a new generic function for "grep" in "ontoTools"
  installing man source files
  installing indices
  zipping data
  installing help
Note: removing empty section \references
Note: removing empty section \references
Note: removing empty section \value
Note: removing empty section \references
Note: removing empty section \value
Note: removing empty section \references
Note: removing empty section \references
Note: removing empty section \references
Note: removing empty section \value
Note: removing empty section \details
Note: removing empty section \references
Note: removing empty section \value
Note: removing empty section \details
Note: removing empty section \references
Note: removing empty section \details
Note: removing empty section \examples
Note: removing empty section \details
Note: removing empty section \examples
Note: removing empty section \examples
Note: removing empty section \examples
Note: removing empty section \source
Note: removing empty section \references
Note: removing empty section \source
Note: removing empty section \references
Note: removing empty section \references
Note: removing empty section \references
Note: removing empty section \examples
Note: removing empty section \examples
Note: removing empty section \references
Note: removing empty section \references
 >>> Building/Updating help pages for package 'ontoTools'
     Formats: text html latex example chm 
  A.csr                             text    html    latex           chm
  GDI                               text    html    latex   example chm
  LLGOMFcp                          text    html    latex           chm
  OOC-class                         text    html    latex   example chm
  SGDIvocab                         text    html    latex   example chm
  STMA                              text    html    latex   example chm
  accessMat                         text    html    latex           chm
  buildGOgraph                      text    html    latex   example chm
  compoundGraph-class               text    html    latex           chm
  depthStruct                       text    html    latex   example chm
  gomfAmat                          text    html    latex           chm
  litOnto                           text    html    latex           chm
  namedSparse-class                 text    html    latex   example chm
  ontology-class                    text    html    latex   example chm
  ooMapLL2GOMFdemo                  text    html    latex           chm
  otkvEnv2namedSparse               text    html    latex   example chm
  rootedDAG-class                   text    html    latex           chm
  semsim                            text    html    latex   example chm
  taggedHierNomenclature-class      text    html    latex   example chm
  toDot-methods                     text    html    latex   example chm
Microsoft HTML Help Compiler 4.74.8702
Compiling e:\biocbld\bbs-2.2-bioc\meat\R.INSTALL.4936\ontoTools\chm\ontoTools.chm
Compile time: 0 minutes, 0 seconds
21	Topics
179	Local links
0	Internet links
1	Graphic
Created e:\biocbld\bbs-2.2-bioc\meat\R.INSTALL.4936\ontoTools\chm\ontoTools.chm, 43,876 bytes
Compression decreased file by 62,168 bytes.
  adding MD5 sums
packaged installation of package 'ontoTools' as ontoTools_1.15.1.zip
* DONE (ontoTools)