| Back to the "Multiple platform build/check report" | A B C D E F G H I J K L M N [O] P Q R S T U V W X Y Z | 
| Package 163/264 | Hostname | OS / Arch | BUILD | CHECK | BUILD BIN | ||||
| oligoClasses 1.1.18 Benilton Carvalho 
 | lamb1 | Linux (SUSE 10.1) / x86_64 | OK | WARNINGS | |||||
| wilson2 | Linux (openSUSE 10.3) / x86_64 | OK | WARNINGS | ||||||
| wellington | Linux (openSUSE 10.3) / i686 | OK | WARNINGS | ||||||
| liverpool | Windows Server 2003 R2 (32-bit) / x64 | OK | WARNINGS | OK | |||||
| pelham | Mac OS X Leopard (10.5.1) / i386 | [ OK ] | WARNINGS | OK | 
| Package: oligoClasses | 
| Version: 1.1.18 | 
| Command: /Library/Frameworks/R.framework/Resources/bin/R CMD build oligoClasses | 
| StartedAt: 2008-04-09 04:19:00 -0700 (Wed, 09 Apr 2008) | 
| EndedAt: 2008-04-09 04:19:02 -0700 (Wed, 09 Apr 2008) | 
| EllapsedTime: 1.8 seconds | 
| RetCode: 0 | 
| Status: OK | 
| PackageFile: oligoClasses_1.1.18.tar.gz | 
| PackageFileSize: 9.183 KiB | 
* checking for file 'oligoClasses/DESCRIPTION' ... OK * preparing 'oligoClasses': * checking DESCRIPTION meta-information ... OK * removing junk files * checking for LF line-endings in source and make files * checking for empty or unneeded directories * building 'oligoClasses_1.1.18.tar.gz'