| keggorth 1.1.0 VJ Carey
 
 | Snapshot Date: 2008-04-09 00:13:10 -0700 (Wed, 09 Apr 2008) |  | URL: https://hedgehog.fhcrc.org/bioconductor/trunk/madman/Rpacks/keggorth |  | Last Changed Rev: 27813 / Revision: 30951 |  | Last Changed Date: 2007-10-05 18:31:10 -0700 (Fri, 05 Oct 2007) | 
 | lamb1 | Linux (SUSE 10.1) / x86_64 | [ OK ] | OK |  | 
| wilson2 | Linux (openSUSE 10.3) / x86_64 | OK | OK |  | 
| wellington | Linux (openSUSE 10.3) / i686 | OK | OK |  | 
| liverpool | Windows Server 2003 R2 (32-bit) / x64 | OK | OK | OK | 
| pelham | Mac OS X Leopard (10.5.1) / i386 | OK | OK | OK | 
* checking for file 'keggorth/DESCRIPTION' ... OK
* preparing 'keggorth':
* checking DESCRIPTION meta-information ... OK
* installing the package to re-build vignettes
* Installing *source* package 'keggorth' ...
** R
** data
** inst
** help
 >>> Building/Updating help pages for package 'keggorth'
     Formats: text html latex example 
  getKOprobes                       text    html    latex   example
  indRender                         text    html    latex   example
  keggDF2graph                      text    html    latex   example
** building package indices ...
* DONE (keggorth)
* creating vignettes ... OK
* removing junk files
* checking for LF line-endings in source and make files
* checking for empty or unneeded directories
* building 'keggorth_1.1.0.tar.gz'