| globaltest 4.9.1 Jelle Goeman
 
 | Snapshot Date: 2008-04-09 00:13:10 -0700 (Wed, 09 Apr 2008) |  | URL: https://hedgehog.fhcrc.org/bioconductor/trunk/madman/Rpacks/globaltest |  | Last Changed Rev: 30249 / Revision: 30951 |  | Last Changed Date: 2008-02-27 19:45:20 -0800 (Wed, 27 Feb 2008) | 
 | lamb1 | Linux (SUSE 10.1) / x86_64 | OK | OK |  | 
| wilson2 | Linux (openSUSE 10.3) / x86_64 | OK | OK |  | 
| wellington | Linux (openSUSE 10.3) / i686 | [ OK ] | OK |  | 
| liverpool | Windows Server 2003 R2 (32-bit) / x64 | OK | OK | OK | 
| pelham | Mac OS X Leopard (10.5.1) / i386 | OK | OK | OK | 
* checking for file 'globaltest/DESCRIPTION' ... OK
* preparing 'globaltest':
* checking DESCRIPTION meta-information ... OK
* installing the package to re-build vignettes
* Installing *source* package 'globaltest' ...
** R
** data
** inst
** preparing package for lazy loading
Loading required package: multtest
Loading required package: Biobase
Loading required package: tools
Welcome to Bioconductor
  Vignettes contain introductory material. To view, type
  'openVignette()'. To cite Bioconductor, see
  'citation("Biobase")' and for packages 'citation(pkgname)'.
Loading required package: survival
Loading required package: splines
Loading required package: AnnotationDbi
Loading required package: DBI
Loading required package: RSQLite
Loading required package: annotate
Loading required package: xtable
Creating a new generic function for "fitted.values" in "globaltest"
Creating a new generic function for "residuals" in "globaltest"
** help
 >>> Building/Updating help pages for package 'globaltest'
     Formats: text html latex example 
  GOstructure                       text    html    latex
  annotation.vandeVijver            text    html    latex
  checkerboard                      text    html    latex   example
  geneplot                          text    html    latex   example
  globaltest                        text    html    latex   example
  gostructure.vandeVijver           text    html    latex
  gt.barplot-class                  text    html    latex
  gt.result-class                   text    html    latex
  gtGO                              text    html    latex   example
  mlogit                            text    html    latex   example
  multtest                          text    html    latex   example
  permutations                      text    html    latex   example
  regressionplot                    text    html    latex   example
  sampleplot                        text    html    latex   example
  sampling                          text    html    latex   example
  vandeVijver                       text    html    latex
** building package indices ...
* DONE (globaltest)
* creating vignettes ... OK
* removing junk files
* checking for LF line-endings in source and make files
* checking for empty or unneeded directories
* building 'globaltest_4.9.1.tar.gz'