| flowCore 1.5.16 Nolwenn Le Meur
 
 | Snapshot Date: 2008-04-09 00:13:10 -0700 (Wed, 09 Apr 2008) |  | URL: https://hedgehog.fhcrc.org/bioconductor/trunk/madman/Rpacks/flowCore |  | Last Changed Rev: 30924 / Revision: 30951 |  | Last Changed Date: 2008-04-08 11:17:46 -0700 (Tue, 08 Apr 2008) | 
 | lamb1 | Linux (SUSE 10.1) / x86_64 | OK | OK |  | 
| wilson2 | Linux (openSUSE 10.3) / x86_64 | OK | OK |  | 
| wellington | Linux (openSUSE 10.3) / i686 | [ OK ] | OK |  | 
| liverpool | Windows Server 2003 R2 (32-bit) / x64 | OK | ERROR | ERROR | 
| pelham | Mac OS X Leopard (10.5.1) / i386 | OK | OK | OK | 
* checking for file 'flowCore/DESCRIPTION' ... OK
* preparing 'flowCore':
* checking DESCRIPTION meta-information ... OK
* cleaning src
* installing the package to re-build vignettes
* Installing *source* package 'flowCore' ...
** libs
gcc -std=gnu99 -I/home/biocbuild/bbs-2.2-bioc/R/include -I/home/biocbuild/bbs-2.2-bioc/R/include  -I/usr/local/include    -fpic  -g -O2 -Wall -c biexponential.c -o biexponential.o
gcc -std=gnu99 -I/home/biocbuild/bbs-2.2-bioc/R/include -I/home/biocbuild/bbs-2.2-bioc/R/include  -I/usr/local/include    -fpic  -g -O2 -Wall -c inPolygon.c -o inPolygon.o
gcc -std=gnu99 -shared -L/usr/local/lib -o flowCore.so biexponential.o inPolygon.o   -L/home/biocbuild/bbs-2.2-bioc/R/lib -lR
** R
** data
** inst
** preparing package for lazy loading
Loading required package: Biobase
Loading required package: tools
Welcome to Bioconductor
  Vignettes contain introductory material. To view, type
  'openVignette()'. To cite Bioconductor, see
  'citation("Biobase")' and for packages 'citation(pkgname)'.
Loading required package: rrcov
Loading required package: robustbase
Scalable Robust Estimators with High Breakdown Point (version 0.4-05)
Attaching package: 'rrcov'
	The following object(s) are masked from package:stats :
	 biplot,
	 predict,
	 screeplot 
Loading required package: feature
Loading required package: KernSmooth
KernSmooth 2.22 installed
Copyright M. P. Wand 1997
Loading required package: misc3d
Loading required package: rgl
** help
 >>> Building/Updating help pages for package 'flowCore'
     Formats: text html latex example 
  GvHD                              text    html    latex
  KmeansFilter                      text    html    latex   example
  Subset-methods                    text    html    latex   example
  arcsinhTransform                  text    html    latex   example
  biexponentialTransform            text    html    latex   example
  coerce                            text    html    latex   example
  compensate                        text    html    latex   example
  concreteFilter-class              text    html    latex
  curv1Filter-class                 text    html    latex   example
  curv2Filter-class                 text    html    latex   example
  each_col-methods                  text    html    latex   example
  ellipsoidGate                     text    html    latex   example
  expressionFilter-class            text    html    latex
  filter-and-methods                text    html    latex
  filter-class                      text    html    latex
  filter-in-methods                 text    html    latex
  filter-methods                    text    html    latex   example
  filter-on-methods                 text    html    latex   example
  filterDetails-methods             text    html    latex
  filterReference-class             text    html    latex
  filterResult-class                text    html    latex   example
  filterSet-class                   text    html    latex   example
  flowFrame-class                   text    html    latex   example
  flowSet-class                     text    html    latex   example
  fsApply                           text    html    latex   example
  identifier-methods                text    html    latex   example
  keyword-methods                   text    html    latex   example
  linearTransform                   text    html    latex   example
  lnTransform                       text    html    latex   example
  logTransform                      text    html    latex   example
  logicalFilterResult-class         text    html    latex   example
  logicleTransform                  text    html    latex   example
  manyFilterResult-class            text    html    latex   example
  multipleFilterResult-class        text    html    latex   example
  norm2Filter-class                 text    html    latex   example
  parameterFilter-class             text    html    latex
  parameters-methods                text    html    latex   example
  print.filterSummary               text    html    latex   example
  quadraticTransform                text    html    latex   example
  randomFilterResult-class          text    html    latex
  read.FCS                          text    html    latex   example
  read.FCSheader                    text    html    latex   example
  read.flowSet                      text    html    latex   example
  rectangleGate                     text    html    latex   example
  sampleFilter-class                text    html    latex   example
  sampleFilter                      text    html    latex   example
  scaleTransform                    text    html    latex   example
  setOperationFilter-class          text    html    latex
  spillover-flowSet                 text    html    latex
  split-methods                     text    html    latex   example
  splitScaleTransform               text    html    latex   example
  transform-class                   text    html    latex   example
  transformFilter-class             text    html    latex   example
  transformList-class               text    html    latex   example
  transformMap-class                text    html    latex   example
  truncateTransform                 text    html    latex   example
** building package indices ...
* DONE (flowCore)
* creating vignettes ... OK
* cleaning src
* removing junk files
* checking for LF line-endings in source and make files
* checking for empty or unneeded directories
* building 'flowCore_1.5.16.tar.gz'