Back to the "Multiple platform build/check report" | A B C D E [F] G H I J K L M N O P Q R S T U V W X Y Z |
Package 75/264 | Hostname | OS / Arch | BUILD | CHECK | BUILD BIN | ||||
factDesign 1.13.1 Denise Scholtens
| lamb1 | Linux (SUSE 10.1) / x86_64 | OK | OK | |||||
wilson2 | Linux (openSUSE 10.3) / x86_64 | [ OK ] | OK | ||||||
wellington | Linux (openSUSE 10.3) / i686 | OK | OK | ||||||
liverpool | Windows Server 2003 R2 (32-bit) / x64 | OK | OK | OK | |||||
pelham | Mac OS X Leopard (10.5.1) / i386 | OK | OK | OK |
Package: factDesign |
Version: 1.13.1 |
Command: /home/biocbuild/bbs-2.2-bioc/R/bin/R CMD build factDesign |
StartedAt: 2008-04-09 02:04:52 -0700 (Wed, 09 Apr 2008) |
EndedAt: 2008-04-09 02:05:01 -0700 (Wed, 09 Apr 2008) |
EllapsedTime: 9.5 seconds |
RetCode: 0 |
Status: OK |
PackageFile: factDesign_1.13.1.tar.gz |
PackageFileSize: 153.6 KiB |
* checking for file 'factDesign/DESCRIPTION' ... OK * preparing 'factDesign': * checking DESCRIPTION meta-information ... OK * installing the package to re-build vignettes * Installing *source* package 'factDesign' ... ** R ** data ** inst ** help >>> Building/Updating help pages for package 'factDesign' Formats: text html latex example contrasts text html latex example estrogen text html latex example findFC text html latex example kRepsOverA text html latex example outliers text html latex example ** building package indices ... * DONE (factDesign) * creating vignettes ... OK * removing junk files * checking for LF line-endings in source and make files * checking for empty or unneeded directories * building 'factDesign_1.13.1.tar.gz'