| biocGraph 1.1.1 Li Long
 
 | Snapshot Date: 2008-04-09 00:13:10 -0700 (Wed, 09 Apr 2008) |  | URL: https://hedgehog.fhcrc.org/bioconductor/trunk/madman/Rpacks/biocGraph |  | Last Changed Rev: 28360 / Revision: 30951 |  | Last Changed Date: 2007-10-31 17:26:28 -0700 (Wed, 31 Oct 2007) | 
 | lamb1 | Linux (SUSE 10.1) / x86_64 | OK | OK |  | 
| wilson2 | Linux (openSUSE 10.3) / x86_64 | OK | OK |  | 
| wellington | Linux (openSUSE 10.3) / i686 | OK | OK |  | 
| liverpool | Windows Server 2003 R2 (32-bit) / x64 | [ OK ] | OK | OK | 
| pelham | Mac OS X Leopard (10.5.1) / i386 | OK | OK | OK | 
* checking for file 'biocGraph/DESCRIPTION' ... OK
* preparing 'biocGraph':
* checking DESCRIPTION meta-information ... OK
* installing the package to re-build vignettes
installing R.css in E:/biocbld/bbs-2.2-bioc/tmpdir/Rinst464431323
---------- Making package biocGraph ------------
  adding build stamp to DESCRIPTION
  installing NAMESPACE file and metadata
  installing R files
  installing inst files
  preparing package biocGraph for lazy loading
Loading required package: graph
Loading required package: geneplotter
Loading required package: annotate
Loading required package: Biobase
Loading required package: tools
Welcome to Bioconductor
  Vignettes contain introductory material. To view, type
  'openVignette()'. To cite Bioconductor, see
  'citation("Biobase")' and for packages 'citation(pkgname)'.
Loading required package: AnnotationDbi
Loading required package: DBI
Loading required package: RSQLite
Loading required package: xtable
Loading required package: lattice
KernSmooth 2.22 installed
Copyright M. P. Wand 1997
Loading required package: Rgraphviz
Loading required package: grid
Attaching package: 'Rgraphviz'
	The following object(s) are masked from package:annotate :
	 toFile 
Loading required package: fibroEset
Loading required package: hgu95av2
  installing man source files
  installing indices
  installing help
 >>> Building/Updating help pages for package 'biocGraph'
     Formats: text html latex example chm 
  imageMap                          text    html    latex   example chm
Microsoft HTML Help Compiler 4.74.8702
Compiling e:\biocbld\bbs-2.2-bioc\meat\biocGraph\chm\biocGraph.chm
Compile time: 0 minutes, 1 second
2	Topics
9	Local links
1	Internet link
1	Graphic
Created e:\biocbld\bbs-2.2-bioc\meat\biocGraph\chm\biocGraph.chm, 19,676 bytes
Compression increased file by 5,997 bytes.
  adding MD5 sums
* DONE (biocGraph)
* creating vignettes ... OK
* removing junk files
* checking for LF line-endings in source and make files
* checking for empty or unneeded directories
* building 'biocGraph_1.1.1.tar.gz'