| bioDist 1.11.6 Biocore Team c/o BioC user list
 
 | Snapshot Date: 2008-04-09 00:13:10 -0700 (Wed, 09 Apr 2008) |  | URL: https://hedgehog.fhcrc.org/bioconductor/trunk/madman/Rpacks/bioDist |  | Last Changed Rev: 30115 / Revision: 30951 |  | Last Changed Date: 2008-02-22 16:45:29 -0800 (Fri, 22 Feb 2008) | 
 | lamb1 | Linux (SUSE 10.1) / x86_64 | OK | OK |  | 
| wilson2 | Linux (openSUSE 10.3) / x86_64 | OK | OK |  | 
| wellington | Linux (openSUSE 10.3) / i686 | OK | OK |  | 
| liverpool | Windows Server 2003 R2 (32-bit) / x64 | OK | OK | [ OK ] | 
| pelham | Mac OS X Leopard (10.5.1) / i386 | OK | OK | OK | 
installing R.css in E:/biocbld/bbs-2.2-bioc/meat/bioDist.buildbin-libdir
Using auto-selected zip options ''
---------- Making package bioDist ------------
  adding build stamp to DESCRIPTION
  installing NAMESPACE file and metadata
  installing R files
  installing inst files
  installing man source files
  installing indices
  installing help
Note: removing empty section \details
Note: removing empty section \details
 >>> Building/Updating help pages for package 'bioDist'
     Formats: text html latex example chm 
  KLD.matrix                        text    html    latex   example chm
  KLdist.matrix                     text    html    latex   example chm
  closest.top                       text    html    latex   example chm
  cor.dist                          text    html    latex   example chm
  euc                               text    html    latex   example chm
  man                               text    html    latex   example chm
  mutualInfo                        text    html    latex   example chm
  spearman.dist                     text    html    latex   example chm
  tau.dist                          text    html    latex   example chm
Microsoft HTML Help Compiler 4.74.8702
Compiling e:\biocbld\bbs-2.2-bioc\meat\R.INSTALL.5048\bioDist\chm\bioDist.chm
Compile time: 0 minutes, 0 seconds
10	Topics
97	Local links
0	Internet links
1	Graphic
Created e:\biocbld\bbs-2.2-bioc\meat\R.INSTALL.5048\bioDist\chm\bioDist.chm, 23,730 bytes
Compression decreased file by 15,242 bytes.
  adding MD5 sums
packaged installation of package 'bioDist' as bioDist_1.11.6.zip
* DONE (bioDist)