| affypdnn 1.13.3 Laurent Gautier
 
 | Snapshot Date: 2008-04-09 00:13:10 -0700 (Wed, 09 Apr 2008) |  | URL: https://hedgehog.fhcrc.org/bioconductor/trunk/madman/Rpacks/affypdnn |  | Last Changed Rev: 30377 / Revision: 30951 |  | Last Changed Date: 2008-03-05 11:28:20 -0800 (Wed, 05 Mar 2008) | 
 | lamb1 | Linux (SUSE 10.1) / x86_64 | OK | OK |  | 
| wilson2 | Linux (openSUSE 10.3) / x86_64 | OK | OK |  | 
| wellington | Linux (openSUSE 10.3) / i686 | [ OK ] | TIMEOUT |  | 
| liverpool | Windows Server 2003 R2 (32-bit) / x64 | OK | OK | OK | 
| pelham | Mac OS X Leopard (10.5.1) / i386 | OK | OK | OK | 
* checking for file 'affypdnn/DESCRIPTION' ... OK
* preparing 'affypdnn':
* checking DESCRIPTION meta-information ... OK
* installing the package to re-build vignettes
* Installing *source* package 'affypdnn' ...
** R
** data
** inst
** help
 >>> Building/Updating help pages for package 'affypdnn'
     Formats: text html latex example 
  chiptype.pdnn.params              text    html    latex   example
  expressopdnn                      text    html    latex   example
  find.params.pdnn                  text    html    latex   example
  generateExprVal.method.pdnn       text    html    latex   example
  matplotProbesPDNN                 text    html    latex   example
  pdnn.params.chiptype              text    html    latex   example
  transform.ProbeSet                text    html    latex   example
** building package indices ...
* DONE (affypdnn)
* creating vignettes ... OK
* removing junk files
* checking for LF line-endings in source and make files
* checking for empty or unneeded directories
* building 'affypdnn_1.13.3.tar.gz'