| adSplit 1.9.2 Claudio Lottaz
 
 | Snapshot Date: 2008-04-09 00:13:10 -0700 (Wed, 09 Apr 2008) |  | URL: https://hedgehog.fhcrc.org/bioconductor/trunk/madman/Rpacks/adSplit |  | Last Changed Rev: 30502 / Revision: 30951 |  | Last Changed Date: 2008-03-13 12:53:52 -0700 (Thu, 13 Mar 2008) | 
 | lamb1 | Linux (SUSE 10.1) / x86_64 | OK | OK |  | 
| wilson2 | Linux (openSUSE 10.3) / x86_64 | OK | OK |  | 
| wellington | Linux (openSUSE 10.3) / i686 | OK | OK |  | 
| liverpool | Windows Server 2003 R2 (32-bit) / x64 | OK | OK | [ OK ] | 
| pelham | Mac OS X Leopard (10.5.1) / i386 | OK | OK | OK | 
installing R.css in E:/biocbld/bbs-2.2-bioc/meat/adSplit.buildbin-libdir
Using auto-selected zip options ''
---------- Making package adSplit ------------
  adding build stamp to DESCRIPTION
  installing NAMESPACE file and metadata
  making DLL ...
making adSplit.d from adSplit.cpp
g++   -IE:/biocbld/bbs-2.2-bioc/R/include     -O2 -Wall  -c adSplit.cpp -o adSplit.o
adSplit.cpp: In function 'double tscore(double*, int, int, split&, isis_pars&)':
adSplit.cpp:253: warning: deprecated conversion from string constant to 'char*'
adSplit.cpp: In function 'void isis(char**, double*, int*, int*, int*, int*, int*, double*, int*)':
adSplit.cpp:466: warning: deprecated conversion from string constant to 'char*'
windres --preprocessor="gcc -E -xc -DRC_INVOKED" -I E:/biocbld/bbs-2.2-bioc/R/include  -i adSplit_res.rc -o adSplit_res.o
g++   -shared -s  -o adSplit.dll adSplit.def adSplit.o adSplit_res.o  -LE:/biocbld/bbs-2.2-bioc/R/bin    -lR
  ... DLL made
  installing DLL
  installing R files
  installing inst files
  installing data files
  preparing package adSplit for lazy loading
Loading required package: cluster
Loading required package: multtest
Loading required package: Biobase
Loading required package: tools
Welcome to Bioconductor
  Vignettes contain introductory material. To view, type
  'openVignette()'. To cite Bioconductor, see
  'citation("Biobase")' and for packages 'citation(pkgname)'.
Loading required package: survival
Loading required package: splines
Loading required package: affy
Loading required package: affyio
Loading required package: preprocessCore
Loading required package: GO
Loading required package: KEGG
  installing man source files
  installing indices
  not zipping data
  installing help
 >>> Building/Updating help pages for package 'adSplit'
     Formats: text html latex example chm 
  adSplit-internal                  text    html    latex           chm
  adSplit                           text    html    latex   example chm
  diana2means                       text    html    latex   example chm
  drawRandomPS                      text    html    latex   example chm
  golubKEGGSplits                   text    html    latex   example chm
  hist.splitSet                     text    html    latex   example chm
  image.splitSet                    text    html    latex   example chm
  makeEID2PROBESenv                 text    html    latex   example chm
  print.split                       text    html    latex           chm
  print.splitSet                    text    html    latex   example chm
  randomDiana2means                 text    html    latex   example chm
Microsoft HTML Help Compiler 4.74.8702
Compiling e:\biocbld\bbs-2.2-bioc\meat\R.INSTALL.4320\adSplit\chm\adSplit.chm
Compile time: 0 minutes, 1 second
12	Topics
30	Local links
0	Internet links
1	Graphic
Created e:\biocbld\bbs-2.2-bioc\meat\R.INSTALL.4320\adSplit\chm\adSplit.chm, 28,586 bytes
Compression decreased file by 7,974 bytes.
  adding MD5 sums
packaged installation of package 'adSplit' as adSplit_1.9.2.zip
* DONE (adSplit)