| SBMLR 1.33.1 Tomas Radivoyevitch
 
 | Snapshot Date: 2008-04-09 00:13:10 -0700 (Wed, 09 Apr 2008) |  | URL: https://hedgehog.fhcrc.org/bioconductor/trunk/madman/Rpacks/SBMLR |  | Last Changed Rev: 30603 / Revision: 30951 |  | Last Changed Date: 2008-03-20 16:39:38 -0700 (Thu, 20 Mar 2008) | 
 | lamb1 | Linux (SUSE 10.1) / x86_64 | OK | OK |  | 
| wilson2 | Linux (openSUSE 10.3) / x86_64 | OK | OK |  | 
| wellington | Linux (openSUSE 10.3) / i686 | OK | OK |  | 
| liverpool | Windows Server 2003 R2 (32-bit) / x64 | OK | OK | [ OK ] | 
| pelham | Mac OS X Leopard (10.5.1) / i386 | OK | OK | OK | 
installing R.css in E:/biocbld/bbs-2.2-bioc/meat/SBMLR.buildbin-libdir
Using auto-selected zip options ''
---------- Making package SBMLR ------------
  adding build stamp to DESCRIPTION
  installing R files
  installing inst files
  preparing package SBMLR for lazy loading
Loading required package: XML
Loading required package: odesolve
  installing man source files
  installing indices
  installing help
Note: removing empty section \details
Note: removing empty section \details
 >>> Building/Updating help pages for package 'SBMLR'
     Formats: text html latex example chm 
  equateModels                      text    html    latex   example chm
  makeLaw                           text    html    latex   example chm
  readSBML                          text    html    latex   example chm
  readSBMLR                         text    html    latex   example chm
  saveSBML                          text    html    latex   example chm
  saveSBMLR                         text    html    latex   example chm
  simulate                          text    html    latex   example chm
  summary.SBML                      text    html    latex   example chm
Microsoft HTML Help Compiler 4.74.8702
Compiling e:\biocbld\bbs-2.2-bioc\meat\R.INSTALL.4688\SBMLR\chm\SBMLR.chm
Compile time: 0 minutes, 0 seconds
9	Topics
22	Local links
0	Internet links
1	Graphic
Created e:\biocbld\bbs-2.2-bioc\meat\R.INSTALL.4688\SBMLR\chm\SBMLR.chm, 25,220 bytes
Compression decreased file by 3,897 bytes.
  adding MD5 sums
packaged installation of package 'SBMLR' as SBMLR_1.33.1.zip
* DONE (SBMLR)