| Rintact 1.1.6 Tony Chiang
 
 | Snapshot Date: 2008-04-09 00:13:10 -0700 (Wed, 09 Apr 2008) |  | URL: https://hedgehog.fhcrc.org/bioconductor/trunk/madman/Rpacks/Rintact |  | Last Changed Rev: 30561 / Revision: 30951 |  | Last Changed Date: 2008-03-18 07:36:44 -0700 (Tue, 18 Mar 2008) | 
 | lamb1 | Linux (SUSE 10.1) / x86_64 | OK | ERROR |  | 
| wilson2 | Linux (openSUSE 10.3) / x86_64 | OK | ERROR |  | 
| wellington | Linux (openSUSE 10.3) / i686 | [ OK ] | ERROR |  | 
| liverpool | Windows Server 2003 R2 (32-bit) / x64 | OK | OK | OK | 
| pelham | Mac OS X Leopard (10.5.1) / i386 | OK | ERROR | OK | 
* checking for file 'Rintact/DESCRIPTION' ... OK
* preparing 'Rintact':
* checking DESCRIPTION meta-information ... OK
* installing the package to re-build vignettes
* Installing *source* package 'Rintact' ...
** R
** inst
** preparing package for lazy loading
Loading required package: Biobase
Loading required package: tools
Welcome to Bioconductor
  Vignettes contain introductory material. To view, type
  'openVignette()'. To cite Bioconductor, see
  'citation("Biobase")' and for packages 'citation(pkgname)'.
Loading required package: XML
Loading required package: graph
Attaching package: 'graph'
	The following object(s) are masked from package:XML :
	 addNode 
Loading required package: hypergraph
Attaching package: 'hypergraph'
	The following object(s) are masked from package:utils :
	 head,
	 tail 
** help
Note: removing empty section \examples
Note: removing empty section \references
Note: removing empty section \examples
 >>> Building/Updating help pages for package 'Rintact'
     Formats: text html latex example 
  bait                              text    html    latex   example
  complexEntry                      text    html    latex
  complexes                         text    html    latex   example
  eListHandler                      text    html    latex   example
  intactComplex                     text    html    latex
  intactGraph                       text    html    latex
  intactHyperGraph                  text    html    latex
  intactInteraction                 text    html    latex
  intactXML2Graph                   text    html    latex
  interactionEntry                  text    html    latex
  interactions                      text    html    latex   example
  interactors                       text    html    latex   example
  list2Matrix                       text    html    latex   example
  organismName                      text    html    latex   example
  prey                              text    html    latex   example
  psi25interaction                  text    html    latex   example
  releaseDate                       text    html    latex   example
  separateXMLDataByExpt             text    html    latex
  taxId                             text    html    latex   example
  translateIntactID                 text    html    latex   example
** building package indices ...
* DONE (Rintact)
* creating vignettes ... OK
* removing junk files
* checking for LF line-endings in source and make files
* checking for empty or unneeded directories
* building 'Rintact_1.1.6.tar.gz'