| Back to the "Multiple platform build/check report" | A B C D E F G H I J K L M N O P Q [R] S T U V W X Y Z | 
| Package 199/264 | Hostname | OS / Arch | BUILD | CHECK | BUILD BIN | ||||
| Rdbi 1.13.0 Jianhua Zhang 
 | lamb1 | Linux (SUSE 10.1) / x86_64 | OK | OK | |||||
| wilson2 | Linux (openSUSE 10.3) / x86_64 | OK | OK | ||||||
| wellington | Linux (openSUSE 10.3) / i686 | OK | OK | ||||||
| liverpool | Windows Server 2003 R2 (32-bit) / x64 | [ OK ] | OK | OK | |||||
| pelham | Mac OS X Leopard (10.5.1) / i386 | OK | OK | OK | 
| Package: Rdbi | 
| Version: 1.13.0 | 
| Command: E:\biocbld\bbs-2.2-bioc\R\bin\R.exe CMD build Rdbi | 
| StartedAt: 2008-04-09 03:09:12 -0700 (Wed, 09 Apr 2008) | 
| EndedAt: 2008-04-09 03:09:15 -0700 (Wed, 09 Apr 2008) | 
| EllapsedTime: 2.8 seconds | 
| RetCode: 0 | 
| Status: OK | 
| PackageFile: Rdbi_1.13.0.tar.gz | 
| PackageFileSize: 13.84 KiB | 
* checking for file 'Rdbi/DESCRIPTION' ... OK * preparing 'Rdbi': * checking DESCRIPTION meta-information ... OK * removing junk files * checking for LF line-endings in source and make files * checking for empty or unneeded directories * building 'Rdbi_1.13.0.tar.gz'