| ROC 1.13.1 Vince Carey
 
 | Snapshot Date: 2008-04-09 00:13:10 -0700 (Wed, 09 Apr 2008) |  | URL: https://hedgehog.fhcrc.org/bioconductor/trunk/madman/Rpacks/ROC |  | Last Changed Rev: 30084 / Revision: 30951 |  | Last Changed Date: 2008-02-21 11:32:14 -0800 (Thu, 21 Feb 2008) | 
 | lamb1 | Linux (SUSE 10.1) / x86_64 | OK | OK |  | 
| wilson2 | Linux (openSUSE 10.3) / x86_64 | OK | OK |  | 
| wellington | Linux (openSUSE 10.3) / i686 | [ OK ] | OK |  | 
| liverpool | Windows Server 2003 R2 (32-bit) / x64 | OK | OK | OK | 
| pelham | Mac OS X Leopard (10.5.1) / i386 | OK | OK | OK | 
* checking for file 'ROC/DESCRIPTION' ... OK
* preparing 'ROC':
* checking DESCRIPTION meta-information ... OK
* cleaning src
* installing the package to re-build vignettes
* Installing *source* package 'ROC' ...
** libs
g++ -I/home/biocbuild/bbs-2.2-bioc/R/include -I/home/biocbuild/bbs-2.2-bioc/R/include  -I/usr/local/include    -fpic  -g -O2 -Wall -c ROC.cc -o ROC.o
g++ -shared -L/usr/local/lib -o ROC.so ROC.o   -L/home/biocbuild/bbs-2.2-bioc/R/lib -lR
** R
** inst
** preparing package for lazy loading
** help
Note: removing empty section \value
Note: removing empty section \note
Note: removing empty section \note
Note: removing empty section \references
Note: removing empty section \author
Note: removing empty section \note
Note: removing empty section \references
Note: removing empty section \seealso
 >>> Building/Updating help pages for package 'ROC'
     Formats: text html latex example 
  AUC                               text    html    latex   example
  plot-methods                      text    html    latex   example
  rocc-class                        text    html    latex   example
  rocdemo.sca                       text    html    latex   example
  trapezint                         text    html    latex   example
** building package indices ...
* DONE (ROC)
* creating vignettes ... OK
* cleaning src
* removing junk files
* checking for LF line-endings in source and make files
* checking for empty or unneeded directories
* building 'ROC_1.13.1.tar.gz'