| RLMM 1.1.0 Nusrat Rabbee
 
 | Snapshot Date: 2008-04-09 00:13:10 -0700 (Wed, 09 Apr 2008) |  | URL: https://hedgehog.fhcrc.org/bioconductor/trunk/madman/Rpacks/RLMM |  | Last Changed Rev: 27816 / Revision: 30951 |  | Last Changed Date: 2007-10-05 18:35:49 -0700 (Fri, 05 Oct 2007) | 
 | lamb1 | Linux (SUSE 10.1) / x86_64 | OK | OK |  | 
| wilson2 | Linux (openSUSE 10.3) / x86_64 | OK | OK |  | 
| wellington | Linux (openSUSE 10.3) / i686 | OK | OK |  | 
| liverpool | Windows Server 2003 R2 (32-bit) / x64 | OK | OK | [ OK ] | 
| pelham | Mac OS X Leopard (10.5.1) / i386 | OK | OK | OK | 
installing R.css in E:/biocbld/bbs-2.2-bioc/meat/RLMM.buildbin-libdir
Using auto-selected zip options ''
---------- Making package RLMM ------------
  adding build stamp to DESCRIPTION
  installing R files
  installing inst files
  installing man source files
  installing indices
  installing help
 >>> Building/Updating help pages for package 'RLMM'
     Formats: text html latex example chm 
  Classify                          text    html    latex           chm
  create_Thetafile                  text    html    latex           chm
  normalize_Rawfiles                text    html    latex           chm
  plot_theta                        text    html    latex           chm
Microsoft HTML Help Compiler 4.74.8702
Compiling e:\biocbld\bbs-2.2-bioc\meat\R.INSTALL.2384\RLMM\chm\RLMM.chm
Compile time: 0 minutes, 0 seconds
5	Topics
8	Local links
0	Internet links
1	Graphic
Created e:\biocbld\bbs-2.2-bioc\meat\R.INSTALL.2384\RLMM\chm\RLMM.chm, 19,831 bytes
Compression increased file by 4,919 bytes.
  adding MD5 sums
packaged installation of package 'RLMM' as RLMM_1.1.0.zip
* DONE (RLMM)