| OLINgui 1.13.0 Matthias Futschik
 
 | Snapshot Date: 2008-04-09 00:13:10 -0700 (Wed, 09 Apr 2008) |  | URL: https://hedgehog.fhcrc.org/bioconductor/trunk/madman/Rpacks/OLINgui |  | Last Changed Rev: 30639 / Revision: 30951 |  | Last Changed Date: 2008-03-24 10:46:05 -0700 (Mon, 24 Mar 2008) | 
 | lamb1 | Linux (SUSE 10.1) / x86_64 | OK | OK |  | 
| wilson2 | Linux (openSUSE 10.3) / x86_64 | [ OK ] | OK |  | 
| wellington | Linux (openSUSE 10.3) / i686 | OK | OK |  | 
| liverpool | Windows Server 2003 R2 (32-bit) / x64 | OK | OK | OK | 
| pelham | Mac OS X Leopard (10.5.1) / i386 | OK | OK | OK | 
* checking for file 'OLINgui/DESCRIPTION' ... OK
* preparing 'OLINgui':
* checking DESCRIPTION meta-information ... OK
* installing the package to re-build vignettes
* Installing *source* package 'OLINgui' ...
** R
** inst
** preparing package for lazy loading
Loading required package: OLIN
Loading required package: locfit
Loading required package: akima
Loading required package: lattice
locfit 1.5-4 	 2007-11-27 
Loading required package: Biobase
Loading required package: tools
Welcome to Bioconductor
  Vignettes contain introductory material. To view, type
  'openVignette()'. To cite Bioconductor, see
  'citation("Biobase")' and for packages 'citation(pkgname)'.
Loading required package: marray
Loading required package: limma
** help
Note: unmatched right brace in 'OLINgui' on or after line 30
 >>> Building/Updating help pages for package 'OLINgui'
     Formats: text html latex example 
  OLINgui                           text    html    latex
** building package indices ...
* DONE (OLINgui)
* creating vignettes ... OK
* removing junk files
* checking for LF line-endings in source and make files
* checking for empty or unneeded directories
* building 'OLINgui_1.13.0.tar.gz'