Mfuzz 1.9.2 Matthias Futschik
 | Snapshot Date: 2008-04-09 00:13:10 -0700 (Wed, 09 Apr 2008) |  | URL: https://hedgehog.fhcrc.org/bioconductor/trunk/madman/Rpacks/Mfuzz |  | Last Changed Rev: 30639 / Revision: 30951 |  | Last Changed Date: 2008-03-24 10:46:05 -0700 (Mon, 24 Mar 2008) |  
  | lamb1  | Linux (SUSE 10.1) / x86_64  |  OK  |  OK  |  | 
| wilson2  | Linux (openSUSE 10.3) / x86_64  |  OK  |  OK  |  | 
| wellington  | Linux (openSUSE 10.3) / i686  |  OK  |  OK  |  | 
| liverpool  | Windows Server 2003 R2 (32-bit) / x64  |  OK  |  OK  |  OK  | 
| pelham  | Mac OS X Leopard (10.5.1) / i386  |  OK  |  OK  | [ OK ] | 
                INSTALLATION WITH 'R CMD INSTALL Mfuzz_1.9.2.tar.gz'
* Installing to library 'Mfuzz.buildbin-libdir'
* Installing *source* package 'Mfuzz' ...
** R
** data
** inst
** help
 >>> Building/Updating help pages for package 'Mfuzz'
     Formats: text html latex example 
  acore                             text    html    latex   example
  cselection                        text    html    latex   example
  fill.NA                           text    html    latex   example
  filter.NA                         text    html    latex   example
  filter.std                        text    html    latex   example
  kmeans2                           text    html    latex   example
  kmeans2.plot                      text    html    latex   example
  mfuzz                             text    html    latex   example
  mfuzz.plot                        text    html    latex   example
  mfuzz.plot2                       text    html    latex   example
  mfuzzColorBar                     text    html    latex   example
  overlap                           text    html    latex   example
  overlap.plot                      text    html    latex   example
  partcoef                          text    html    latex   example
  randomise                         text    html    latex   example
  standardise                       text    html    latex   example
  standardise2                      text    html    latex   example
  top.count                         text    html    latex   example
  yeast                             text    html    latex
** building package indices ...
* DONE (Mfuzz)