| MLInterfaces 1.13.22 V. Carey
 
 | Snapshot Date: 2008-04-09 00:13:10 -0700 (Wed, 09 Apr 2008) |  | URL: https://hedgehog.fhcrc.org/bioconductor/trunk/madman/Rpacks/MLInterfaces |  | Last Changed Rev: 30656 / Revision: 30951 |  | Last Changed Date: 2008-03-25 03:16:03 -0700 (Tue, 25 Mar 2008) | 
 | lamb1 | Linux (SUSE 10.1) / x86_64 | OK | ERROR |  | 
| wilson2 | Linux (openSUSE 10.3) / x86_64 | OK | ERROR |  | 
| wellington | Linux (openSUSE 10.3) / i686 | OK | ERROR |  | 
| liverpool | Windows Server 2003 R2 (32-bit) / x64 | OK | OK | [ OK ] | 
| pelham | Mac OS X Leopard (10.5.1) / i386 | OK | ERROR | OK | 
installing R.css in E:/biocbld/bbs-2.2-bioc/meat/MLInterfaces.buildbin-libdir
Using auto-selected zip options ' MLInterfaces-HELP=ziponly'
---------- Making package MLInterfaces ------------
  adding build stamp to DESCRIPTION
  installing NAMESPACE file and metadata
  installing R files
  installing inst files
  preparing package MLInterfaces for lazy loading
Loading required package: Biobase
Loading required package: tools
Welcome to Bioconductor
  Vignettes contain introductory material. To view, type
  'openVignette()'. To cite Bioconductor, see
  'citation("Biobase")' and for packages 'citation(pkgname)'.
Loading required package: MASS
Loading required package: genefilter
Loading required package: survival
Loading required package: splines
Attaching package: 'genefilter'
	The following object(s) are masked from package:MASS :
	 area 
Loading required package: rpart
Loading required package: rda
  installing man source files
  installing indices
  installing help
Note: removing empty section \examples
Note: removing empty section \examples
 >>> Building/Updating help pages for package 'MLInterfaces'
     Formats: text html latex example chm 
  Kfold                             text    html    latex   example chm
  MLIclust                          text    html    latex   example chm
  MLIntInternals                    text    html    latex           chm
  MLearn-methods                    text    html    latex   example chm
  MLearn-new                        text    html    latex   example chm
  RAB                               text    html    latex   example chm
  SOMB                              text    html    latex   example chm
  balKfold.xvspec                   text    html    latex   example chm
  classifOutput-class               text    html    latex   example chm
  classifierOutput-class            text    html    latex   example chm
  clustOutput-class                 text    html    latex   example chm
  confuMat-methods                  text    html    latex   example chm
  fs.absT                           text    html    latex   example chm
  fsHistory                         text    html    latex   example chm
  knnB                              text    html    latex   example chm
  learnerSchema-class               text    html    latex   example chm
  planarPlot-methods                text    html    latex   example chm
  raboostCont-class                 text    html    latex   example chm
  varImpStruct-class                text    html    latex   example chm
  xval-methods                      text    html    latex   example chm
  xvalLoop-methods                  text    html    latex           chm
  xvalLoop                          text    html    latex   example chm
  xvalSpec                          text    html    latex   example chm
  zipping help files
Microsoft HTML Help Compiler 4.74.8702
Compiling e:\biocbld\bbs-2.2-bioc\meat\R.INSTALL.6132\MLInterfaces\chm\MLInterfaces.chm
Compile time: 0 minutes, 1 second
24	Topics
332	Local links
0	Internet links
1	Graphic
Created e:\biocbld\bbs-2.2-bioc\meat\R.INSTALL.6132\MLInterfaces\chm\MLInterfaces.chm, 68,803 bytes
Compression decreased file by 124,931 bytes.
  adding MD5 sums
packaged installation of package 'MLInterfaces' as MLInterfaces_1.13.22.zip
* DONE (MLInterfaces)