| LBE 1.7.0 Cyril Dalmasso
 
 | Snapshot Date: 2008-04-09 00:13:10 -0700 (Wed, 09 Apr 2008) |  | URL: https://hedgehog.fhcrc.org/bioconductor/trunk/madman/Rpacks/LBE |  | Last Changed Rev: 27716 / Revision: 30951 |  | Last Changed Date: 2007-10-02 18:16:39 -0700 (Tue, 02 Oct 2007) | 
 | lamb1 | Linux (SUSE 10.1) / x86_64 | [ OK ] | OK |  | 
| wilson2 | Linux (openSUSE 10.3) / x86_64 | OK | OK |  | 
| wellington | Linux (openSUSE 10.3) / i686 | OK | OK |  | 
| liverpool | Windows Server 2003 R2 (32-bit) / x64 | OK | OK | OK | 
| pelham | Mac OS X Leopard (10.5.1) / i386 | OK | OK | OK | 
* checking for file 'LBE/DESCRIPTION' ... OK
* preparing 'LBE':
* checking DESCRIPTION meta-information ... OK
* installing the package to re-build vignettes
* Installing *source* package 'LBE' ...
** R
** data
** inst
** help
Note: unmatched right brace in 'LBE-package' on or after line 10
Note: unmatched right brace in 'LBE-package' on or after line 11
 >>> Building/Updating help pages for package 'LBE'
     Formats: text html latex example 
  LBE-package                       text    html    latex
  LBE                               text    html    latex   example
  LBEa                              text    html    latex   example
  LBEplot                           text    html    latex   example
  LBEsummary                        text    html    latex   example
  LBEwrite                          text    html    latex   example
  golub.pval                        text    html    latex
  hedenfalk.pval                    text    html    latex
** building package indices ...
* DONE (LBE)
* creating vignettes ... OK
* removing junk files
* checking for LF line-endings in source and make files
* checking for empty or unneeded directories
* building 'LBE_1.7.0.tar.gz'