| GeneticsDesign 1.5.0 Weiliang Qiu
 
 | Snapshot Date: 2008-04-09 00:13:10 -0700 (Wed, 09 Apr 2008) |  | URL: https://hedgehog.fhcrc.org/bioconductor/trunk/madman/Rpacks/GeneticsDesign |  | Last Changed Rev: 29703 / Revision: 30951 |  | Last Changed Date: 2008-01-25 12:40:16 -0800 (Fri, 25 Jan 2008) | 
 | lamb1 | Linux (SUSE 10.1) / x86_64 | OK | ERROR |  | 
| wilson2 | Linux (openSUSE 10.3) / x86_64 | OK | ERROR |  | 
| wellington | Linux (openSUSE 10.3) / i686 | OK | ERROR |  | 
| liverpool | Windows Server 2003 R2 (32-bit) / x64 | OK | ERROR | [ OK ] | 
| pelham | Mac OS X Leopard (10.5.1) / i386 | OK | ERROR | OK | 
installing R.css in E:/biocbld/bbs-2.2-bioc/meat/GeneticsDesign.buildbin-libdir
Using auto-selected zip options ''
---------- Making package GeneticsDesign ------------
  adding build stamp to DESCRIPTION
  installing NAMESPACE file and metadata
  installing R files
  installing inst files
  installing man source files
  installing indices
  installing help
Note: removing empty section \details
Note: removing empty section \details
 >>> Building/Updating help pages for package 'GeneticsDesign'
     Formats: text html latex example chm 
  GPC                               text    html    latex   example chm
  gregorius                         text    html    latex   example chm
  power.casectlr                    text    html    latex   example chm
  power.genotype.conti              text    html    latex   example chm
Microsoft HTML Help Compiler 4.74.8702
Compiling e:\biocbld\bbs-2.2-bioc\meat\R.INSTALL.952\GeneticsDesign\chm\GeneticsDesign.chm
Compile time: 0 minutes, 0 seconds
5	Topics
10	Local links
0	Internet links
1	Graphic
Created e:\biocbld\bbs-2.2-bioc\meat\R.INSTALL.952\GeneticsDesign\chm\GeneticsDesign.chm, 26,999 bytes
Compression decreased file by 27 bytes.
  adding MD5 sums
packaged installation of package 'GeneticsDesign' as GeneticsDesign_1.5.0.zip
* DONE (GeneticsDesign)