| Back to the "Multiple platform build/check report" | A B C D E F [G] H I J K L M N O P Q R S T U V W X Y Z | 
| Package 98/264 | Hostname | OS / Arch | BUILD | CHECK | BUILD BIN | ||||
| GeneTraffic 1.11.1 Daniel Iordan 
 | lamb1 | Linux (SUSE 10.1) / x86_64 | OK | OK | |||||
| wilson2 | Linux (openSUSE 10.3) / x86_64 | [ OK ] | OK | ||||||
| wellington | Linux (openSUSE 10.3) / i686 | OK | OK | ||||||
| liverpool | Windows Server 2003 R2 (32-bit) / x64 | OK | OK | OK | |||||
| pelham | Mac OS X Leopard (10.5.1) / i386 | OK | OK | OK | 
| Package: GeneTraffic | 
| Version: 1.11.1 | 
| Command: /home/biocbuild/bbs-2.2-bioc/R/bin/R CMD build GeneTraffic | 
| StartedAt: 2008-04-09 02:18:09 -0700 (Wed, 09 Apr 2008) | 
| EndedAt: 2008-04-09 02:18:10 -0700 (Wed, 09 Apr 2008) | 
| EllapsedTime: 0.5 seconds | 
| RetCode: 0 | 
| Status: OK | 
| PackageFile: GeneTraffic_1.11.1.tar.gz | 
| PackageFileSize: 177.2 KiB | 
* checking for file 'GeneTraffic/DESCRIPTION' ... OK * preparing 'GeneTraffic': * checking DESCRIPTION meta-information ... OK * removing junk files * checking for LF line-endings in source and make files * checking for empty or unneeded directories * building 'GeneTraffic_1.11.1.tar.gz'