GeneSpring 2.13.1 Thon de Boer
 | Snapshot Date: 2008-04-09 00:13:10 -0700 (Wed, 09 Apr 2008) |  | URL: https://hedgehog.fhcrc.org/bioconductor/trunk/madman/Rpacks/GeneSpring |  | Last Changed Rev: 30375 / Revision: 30951 |  | Last Changed Date: 2008-03-05 09:59:19 -0800 (Wed, 05 Mar 2008) |  
  | lamb1  | Linux (SUSE 10.1) / x86_64  |  OK  |  OK  |  | 
| wilson2  | Linux (openSUSE 10.3) / x86_64  |  OK  |  OK  |  | 
| wellington  | Linux (openSUSE 10.3) / i686  |  OK  |  OK  |  | 
| liverpool  | Windows Server 2003 R2 (32-bit) / x64  | [ OK ] |  OK  |  OK  | 
| pelham  | Mac OS X Leopard (10.5.1) / i386  |  OK  |  OK  |  OK  | 
* checking for file 'GeneSpring/DESCRIPTION' ... OK
* preparing 'GeneSpring':
* checking DESCRIPTION meta-information ... OK
* installing the package to re-build vignettes
installing R.css in E:/biocbld/bbs-2.2-bioc/tmpdir/Rinst192844583
---------- Making package GeneSpring ------------
  adding build stamp to DESCRIPTION
  installing R files
  installing inst files
  preparing package GeneSpring for lazy loading
Loading required package: Biobase
Loading required package: tools
Welcome to Bioconductor
  Vignettes contain introductory material. To view, type
  'openVignette()'. To cite Bioconductor, see
  'citation("Biobase")' and for packages 'citation(pkgname)'.
  installing man source files
  installing indices
  installing help
Note: removing empty section \examples
Note: removing empty section \examples
Note: removing empty section \seealso
Note: removing empty section \seealso
Note: removing empty section \examples
Note: removing empty section \examples
 >>> Building/Updating help pages for package 'GeneSpring'
     Formats: text html latex example chm 
  GSint                             text    html    latex   example chm
  GSint2BC                          text    html    latex   example chm
  GSload.exp                        text    html    latex           chm
  GSload.genelist                   text    html    latex   example chm
  GSload.int                        text    html    latex           chm
  GSsave.exp                        text    html    latex   example chm
Microsoft HTML Help Compiler 4.74.8702
Compiling e:\biocbld\bbs-2.2-bioc\meat\GeneSpring\chm\GeneSpring.chm
Compile time: 0 minutes, 0 seconds
7	Topics
40	Local links
6	Internet links
1	Graphic
Created e:\biocbld\bbs-2.2-bioc\meat\GeneSpring\chm\GeneSpring.chm, 30,997 bytes
Compression decreased file by 11,187 bytes.
  adding MD5 sums
* DONE (GeneSpring)
* creating vignettes ... OK
* removing junk files
* checking for LF line-endings in source and make files
* checking for empty or unneeded directories
* building 'GeneSpring_2.13.1.tar.gz'