| GeneSelector 0.9.5 Martin Slawski
 
 | Snapshot Date: 2008-04-09 00:13:10 -0700 (Wed, 09 Apr 2008) |  | URL: https://hedgehog.fhcrc.org/bioconductor/trunk/madman/Rpacks/GeneSelector |  | Last Changed Rev: 30804 / Revision: 30951 |  | Last Changed Date: 2008-04-02 09:58:36 -0700 (Wed, 02 Apr 2008) | 
 | lamb1 | Linux (SUSE 10.1) / x86_64 | ERROR | skipped |  | 
| wilson2 | Linux (openSUSE 10.3) / x86_64 | ERROR | skipped |  | 
| wellington | Linux (openSUSE 10.3) / i686 | ERROR | skipped |  | 
| liverpool | Windows Server 2003 R2 (32-bit) / x64 | [ TIMEOUT ] | skipped | skipped | 
| pelham | Mac OS X Leopard (10.5.1) / i386 | OK | OK | OK | 
* checking for file 'GeneSelector/DESCRIPTION' ... OK
* preparing 'GeneSelector':
* checking DESCRIPTION meta-information ... OK
* installing the package to re-build vignettes
installing R.css in E:/biocbld/bbs-2.2-bioc/tmpdir/Rinst210071829
---------- Making package GeneSelector ------------
  adding build stamp to DESCRIPTION
  installing NAMESPACE file and metadata
  installing R files
  installing inst files
  installing data files
  preparing package GeneSelector for lazy loading
Loading required package: Biobase
Loading required package: tools
Welcome to Bioconductor
  Vignettes contain introductory material. To view, type
  'openVignette()'. To cite Bioconductor, see
  'citation("Biobase")' and for packages 'citation(pkgname)'.
  installing man source files
  installing indices
  not zipping data
  installing help
 >>> Building/Updating help pages for package 'GeneSelector'
     Formats: text html latex example chm 
  AdjustPvalues                     text    html    latex   example chm
  AggregateBayes-methods            text    html    latex           chm
  AggregateBayes                    text    html    latex   example chm
  AggregatePCA-methods              text    html    latex           chm
  AggregatePCA                      text    html    latex           chm
  AggregatePenalty-methods          text    html    latex           chm
  AggregatePenalty                  text    html    latex           chm
  AggregateSimple-methods           text    html    latex           chm
  AggregateSimple                   text    html    latex   example chm
  AggregatedRanking-class           text    html    latex           chm
  BootMatrix-class                  text    html    latex           chm
  CombinedRanking-class             text    html    latex           chm
  FoldMatrix-class                  text    html    latex           chm
  GeneRanking-class                 text    html    latex           chm
  GeneSelector-methods              text    html    latex           chm
  GeneSelector-package              text    html    latex           chm
  GeneSelector                      text    html    latex   example chm
  GenerateBootMatrix-methods        text    html    latex           chm
  GenerateBootMatrix                text    html    latex   example chm
  GenerateFoldMatrix-methods        text    html    latex           chm
  GenerateFoldMatrix                text    html    latex   example chm
  GetAlpha                          text    html    latex   example chm
  GetRepeatRanking-methods          text    html    latex           chm
  GetRepeatRanking                  text    html    latex   example chm
  GetStabilityGLM-methods           text    html    latex           chm
  GetStabilityGLM                   text    html    latex           chm
  GetStabilityLm-methods            text    html    latex           chm
  GetStabilityLm                    text    html    latex   example chm
  GetStabilityOverlap-methods       text    html    latex           chm
  GetStabilityOverlap               text    html    latex   example chm
  GetStabilityPCA-methods           text    html    latex           chm
  GetStabilityPCA                   text    html    latex           chm
  HeatmapMethods-methods            text    html    latex           chm
  HeatmapMethods                    text    html    latex   example chm
  PCAMethods-methods                text    html    latex           chm
  PCAMethods                        text    html    latex           chm
  PCAMethodsResult-class            text    html    latex           chm
  RankingBaldiLong-methods          text    html    latex           chm
  RankingBaldiLong                  text    html    latex   example chm
  RankingBstat-methods              text    html    latex           chm
  RankingBstat                      text    html    latex   example chm
  RankingEbam-methods               text    html    latex           chm
  RankingEbam                       text    html    latex   example chm
  RankingFC-methods                 text    html    latex           chm
  RankingFC                         text    html    latex   example chm
  RankingFoxDimmic-methods          text    html    latex           chm
  RankingFoxDimmic                  text    html    latex   example chm
  RankingGap-methods                text    html    latex           chm
  RankingGap                        text    html    latex   example chm
  RankingLimma-methods              text    html    latex           chm
  RankingLimma                      text    html    latex   example chm
  RankingPermutation-methods        text    html    latex           chm
  RankingPermutation                text    html    latex   example chm
  RankingSam-methods                text    html    latex           chm
  RankingSam                        text    html    latex   example chm
  RankingShrinkageT-methods         text    html    latex           chm
  RankingShrinkageT                 text    html    latex   example chm
  RankingSoftthresholdT-methods     text    html    latex           chm
  RankingSoftthresholdT             text    html    latex   example chm
  RankingTstat-methods              text    html    latex           chm
  RankingTstat                      text    html    latex   example chm
  RankingWelchT-methods             text    html    latex           chm
  RankingWelchT                     text    html    latex   example chm
  RankingWilcEbam-methods           text    html    latex           chm
  RankingWilcEbam                   text    html    latex   example chm
  RankingWilcoxon-methods           text    html    latex           chm
  RankingWilcoxon                   text    html    latex   example chm
  RecoveryScore                     text    html    latex   example chm
  RepeatRanking-class               text    html    latex           chm
  StabilityGLM-class                text    html    latex           chm
  StabilityLm-class                 text    html    latex           chm
  StabilityOverlap-class            text    html    latex           chm
  StabilityPCA-class                text    html    latex           chm
  internals                         text    html    latex           chm
  join-methods                      text    html    latex           chm
  join                              text    html    latex           chm
  plot,AggregatedRanking            text    html    latex           chm
  plot,CombinedRanking              text    html    latex           chm
  plot,RepeatRanking                text    html    latex           chm
  plot,StabilityLm                  text    html    latex           chm
  plot,StabilityOverlap             text    html    latex           chm
  samplingcontrol                   text    html    latex           chm
  summary,GeneRanking               text    html    latex           chm
  summary,StabilityOverlap          text    html    latex           chm
  toplist-methods                   text    html    latex           chm
  toydata                           text    html    latex   example chm
  variance,RepeatRanking            text    html    latex           chm
Microsoft HTML Help Compiler 4.74.8702
Compiling e:\biocbld\bbs-2.2-bioc\meat\GeneSelector\chm\GeneSelector.chm
Compile time: 0 minutes, 1 second
88	Topics
799	Local links
53	Internet links
1	Graphic
Created e:\biocbld\bbs-2.2-bioc\meat\GeneSelector\chm\GeneSelector.chm, 96,371 bytes
Compression decreased file by 221,405 bytes.
  adding MD5 sums
* DONE (GeneSelector)
* creating vignettes ...