BufferedMatrixMethods 1.3.5 B. M. Bolstad
| Snapshot Date: 2008-04-09 00:13:10 -0700 (Wed, 09 Apr 2008) | | URL: https://hedgehog.fhcrc.org/bioconductor/trunk/madman/Rpacks/BufferedMatrixMethods | | Last Changed Rev: 30309 / Revision: 30951 | | Last Changed Date: 2008-03-01 07:13:01 -0800 (Sat, 01 Mar 2008) |
| lamb1 | Linux (SUSE 10.1) / x86_64 | OK | OK | |
| wilson2 | Linux (openSUSE 10.3) / x86_64 | OK | OK | |
| wellington | Linux (openSUSE 10.3) / i686 | OK | OK | |
| liverpool | Windows Server 2003 R2 (32-bit) / x64 | OK | OK | OK |
| pelham | Mac OS X Leopard (10.5.1) / i386 | [ OK ] | OK | OK |
* checking for file 'BufferedMatrixMethods/DESCRIPTION' ... OK
* preparing 'BufferedMatrixMethods':
* checking DESCRIPTION meta-information ... OK
* cleaning src
* removing junk files
* checking for LF line-endings in source and make files
* checking for empty or unneeded directories
* building 'BufferedMatrixMethods_1.3.5.tar.gz'