| BufferedMatrix 1.3.1 Benjamin Milo Bolstad
 
 | Snapshot Date: 2008-04-09 00:13:10 -0700 (Wed, 09 Apr 2008) |  | URL: https://hedgehog.fhcrc.org/bioconductor/trunk/madman/Rpacks/BufferedMatrix |  | Last Changed Rev: 30503 / Revision: 30951 |  | Last Changed Date: 2008-03-13 13:29:30 -0700 (Thu, 13 Mar 2008) | 
 | lamb1 | Linux (SUSE 10.1) / x86_64 | OK | OK |  | 
| wilson2 | Linux (openSUSE 10.3) / x86_64 | OK | OK |  | 
| wellington | Linux (openSUSE 10.3) / i686 | OK | OK |  | 
| liverpool | Windows Server 2003 R2 (32-bit) / x64 | OK | OK | [ OK ] | 
| pelham | Mac OS X Leopard (10.5.1) / i386 | OK | OK | OK | 
installing R.css in E:/biocbld/bbs-2.2-bioc/meat/BufferedMatrix.buildbin-libdir
Using auto-selected zip options ''
---------- Making package BufferedMatrix ------------
  adding build stamp to DESCRIPTION
  installing NAMESPACE file and metadata
  making DLL ...
making RBufferedMatrix.d from RBufferedMatrix.c
making doubleBufferedMatrix.d from doubleBufferedMatrix.c
making doubleBufferedMatrix_C_tests.d from doubleBufferedMatrix_C_tests.c
making init_package.d from init_package.c
gcc  -std=gnu99  -IE:/biocbld/bbs-2.2-bioc/R/include     -O3 -Wall  -c RBufferedMatrix.c -o RBufferedMatrix.o
gcc  -std=gnu99  -IE:/biocbld/bbs-2.2-bioc/R/include     -O3 -Wall  -c doubleBufferedMatrix.c -o doubleBufferedMatrix.o
doubleBufferedMatrix.c:3327: warning: 'sort_double' defined but not used
gcc  -std=gnu99  -IE:/biocbld/bbs-2.2-bioc/R/include     -O3 -Wall  -c doubleBufferedMatrix_C_tests.c -o doubleBufferedMatrix_C_tests.o
gcc  -std=gnu99  -IE:/biocbld/bbs-2.2-bioc/R/include     -O3 -Wall  -c init_package.c -o init_package.o
windres --preprocessor="gcc -E -xc -DRC_INVOKED" -I E:/biocbld/bbs-2.2-bioc/R/include  -i BufferedMatrix_res.rc -o BufferedMatrix_res.o
gcc  -std=gnu99  -shared -s  -o BufferedMatrix.dll BufferedMatrix.def RBufferedMatrix.o doubleBufferedMatrix.o doubleBufferedMatrix_C_tests.o init_package.o BufferedMatrix_res.o  -LE:/biocbld/bbs-2.2-bioc/R/bin    -lR
  ... DLL made
  installing DLL
  installing R files
  installing inst files
  preparing package BufferedMatrix for lazy loading
Creating a new generic function for "ncol" in "BufferedMatrix"
Creating a new generic function for "nrow" in "BufferedMatrix"
Creating a new generic function for "mean" in "BufferedMatrix"
Creating a new generic function for "as.matrix" in "BufferedMatrix"
  installing man source files
  installing indices
  installing help
Note: ignoring empty \keyword entries
Note: removing empty section \value
Note: removing empty section \details
Note: removing empty section \references
Note: removing empty section \examples
Note: removing empty section \seealso
Note: ignoring empty \keyword entries
Note: removing empty section \value
Note: removing empty section \details
Note: removing empty section \references
Note: removing empty section \examples
Note: removing empty section \seealso
 >>> Building/Updating help pages for package 'BufferedMatrix'
     Formats: text html latex example chm 
  BufferedMatrix-class              text    html    latex           chm
  as.BufferedMatrix                 text    html    latex           chm
  createBufferedMatrix              text    html    latex           chm
Microsoft HTML Help Compiler 4.74.8702
Compiling e:\biocbld\bbs-2.2-bioc\meat\R.INSTALL.3148\BufferedMatrix\chm\BufferedMatrix.chm
Compile time: 0 minutes, 0 seconds
4	Topics
105	Local links
0	Internet links
1	Graphic
Created e:\biocbld\bbs-2.2-bioc\meat\R.INSTALL.3148\BufferedMatrix\chm\BufferedMatrix.chm, 23,551 bytes
Compression decreased file by 30,853 bytes.
  adding MD5 sums
packaged installation of package 'BufferedMatrix' as BufferedMatrix_1.3.1.zip
* DONE (BufferedMatrix)