| BiocCaseStudies 1.1.4 Biocore Team c/o BioC user list
 
 | Snapshot Date: 2008-04-09 00:13:10 -0700 (Wed, 09 Apr 2008) |  | URL: https://hedgehog.fhcrc.org/bioconductor/trunk/madman/Rpacks/BiocCaseStudies |  | Last Changed Rev: 30142 / Revision: 30951 |  | Last Changed Date: 2008-02-24 20:28:59 -0800 (Sun, 24 Feb 2008) | 
 | lamb1 | Linux (SUSE 10.1) / x86_64 | OK | OK |  | 
| wilson2 | Linux (openSUSE 10.3) / x86_64 | OK | OK |  | 
| wellington | Linux (openSUSE 10.3) / i686 | OK | OK |  | 
| liverpool | Windows Server 2003 R2 (32-bit) / x64 | OK | OK | OK | 
| pelham | Mac OS X Leopard (10.5.1) / i386 | OK | OK | [ OK ] | 
                INSTALLATION WITH 'R CMD INSTALL BiocCaseStudies_1.1.4.tar.gz'
* Installing to library 'BiocCaseStudies.buildbin-libdir'
* Installing *source* package 'BiocCaseStudies' ...
** R
** preparing package for lazy loading
Loading required package: tools
Loading required package: Biobase
Welcome to Bioconductor
  Vignettes contain introductory material. To view, type
  'openVignette()'. To cite Bioconductor, see
  'citation("Biobase")' and for packages 'citation(pkgname)'.
** help
 >>> Building/Updating help pages for package 'BiocCaseStudies'
     Formats: text html latex example 
  fixedWidthCat                     text    html    latex   example
  markup                            text    html    latex
  mySessionInfo                     text    html    latex
  parseLibVers                      text    html    latex
  requiredPackages                  text    html    latex   example
  resample                          text    html    latex
** building package indices ...
* DONE (BiocCaseStudies)