BSgenome 1.7.7 H. Pages
| Snapshot Date: 2008-04-09 00:13:10 -0700 (Wed, 09 Apr 2008) | | URL: https://hedgehog.fhcrc.org/bioconductor/trunk/madman/Rpacks/BSgenome | | Last Changed Rev: 30778 / Revision: 30951 | | Last Changed Date: 2008-04-01 10:15:10 -0700 (Tue, 01 Apr 2008) |
| lamb1 | Linux (SUSE 10.1) / x86_64 | OK | WARNINGS | |
| wilson2 | Linux (openSUSE 10.3) / x86_64 | [ OK ] | WARNINGS | |
| wellington | Linux (openSUSE 10.3) / i686 | OK | WARNINGS | |
| liverpool | Windows Server 2003 R2 (32-bit) / x64 | OK | WARNINGS | OK |
| pelham | Mac OS X Leopard (10.5.1) / i386 | OK | WARNINGS | OK |