| vsn 3.4.1 Wolfgang Huber
 
 | Snapshot Date: 2007-12-11 00:09:07 -0800 (Tue, 11 Dec 2007) |  | URL: https://hedgehog.fhcrc.org/bioconductor/trunk/madman/Rpacks/vsn |  | Last Changed Rev: 28963 / Revision: 29143 |  | Last Changed Date: 2007-11-29 03:23:05 -0800 (Thu, 29 Nov 2007) | 
 | lamb1 | Linux (SUSE 10.1) / x86_64 | [ OK ] | WARNINGS |  | 
| wilson2 | Linux (openSUSE 10.3) / x86_64 | OK | WARNINGS |  | 
| wellington | Linux (openSUSE 10.3) / i686 | OK | WARNINGS |  | 
| liverpool | Windows Server 2003 R2 (32-bit) / x64 | OK | WARNINGS | OK | 
| lemming | Windows Server 2003 (32-bit) / x64 | OK | WARNINGS | OK | 
* checking for file 'vsn/DESCRIPTION' ... OK
* preparing 'vsn':
* checking DESCRIPTION meta-information ... OK
* cleaning src
* installing the package to re-build vignettes
* Installing *source* package 'vsn' ...
** libs
gcc -std=gnu99 -I/home/biocbuild/bbs-2.2-bioc/R/include -I/home/biocbuild/bbs-2.2-bioc/R/include  -I/usr/local/include    -fpic  -g -O2 -Wall -c init.c -o init.o
gcc -std=gnu99 -I/home/biocbuild/bbs-2.2-bioc/R/include -I/home/biocbuild/bbs-2.2-bioc/R/include  -I/usr/local/include    -fpic  -g -O2 -Wall -c vsn2.c -o vsn2.o
gcc -std=gnu99 -I/home/biocbuild/bbs-2.2-bioc/R/include -I/home/biocbuild/bbs-2.2-bioc/R/include  -I/usr/local/include    -fpic  -g -O2 -Wall -c vsn.c -o vsn.o
gcc -std=gnu99 -shared -L/usr/local/lib64 -o vsn.so init.o vsn2.o vsn.o   -L/home/biocbuild/bbs-2.2-bioc/R/lib -lR
** R
** data
** inst
** preparing package for lazy loading
Loading required package: Biobase
Loading required package: tools
Welcome to Bioconductor
  Vignettes contain introductory material. To view, type
  'openVignette()'. To cite Bioconductor, see
  'citation("Biobase")' and for packages 'citation(pkgname)'.
Loading required package: affy
Loading required package: affyio
Loading required package: preprocessCore
Loading required package: limma
Creating a new generic function for "logLik" in "vsn"
Creating a new generic function for "coef" in "vsn"
Creating a new generic function for "coefficients" in "vsn"
** help
 >>> Building/Updating help pages for package 'vsn'
     Formats: text html latex example 
  class.vsn                         text    html    latex   example
  class.vsnInput                    text    html    latex
  getIntensityMatrix                text    html    latex   example
  justvsn                           text    html    latex   example
  kidney                            text    html    latex   example
  lymphoma                          text    html    latex   example
  meanSdPlot                        text    html    latex   example
  normalize.AffyBatch.vsn           text    html    latex   example
  sagmbSimulateData                 text    html    latex   example
  scalingFactorTransformation       text    html    latex   example
  vsn-package                       text    html    latex
  vsn                               text    html    latex   example
  vsn2                              text    html    latex   example
  vsn2trsf                          text    html    latex   example
  vsnLikelihood                     text    html    latex   example
  vsnPlotPar                        text    html    latex   example
  vsnh                              text    html    latex   example
** building package indices ...
* DONE (vsn)
* creating vignettes ... OK
* cleaning src
* removing junk files
* checking for LF line-endings in source and make files
* checking for empty or unneeded directories
* building 'vsn_3.4.1.tar.gz'