| sizepower 1.9.0 Weiliang Qiu
 
 | Snapshot Date: 2007-12-11 00:09:07 -0800 (Tue, 11 Dec 2007) |  | URL: https://hedgehog.fhcrc.org/bioconductor/trunk/madman/Rpacks/sizepower |  | Last Changed Rev: 27716 / Revision: 29143 |  | Last Changed Date: 2007-10-02 18:16:39 -0700 (Tue, 02 Oct 2007) | 
 | lamb1 | Linux (SUSE 10.1) / x86_64 | OK | OK |  | 
| wilson2 | Linux (openSUSE 10.3) / x86_64 | OK | OK |  | 
| wellington | Linux (openSUSE 10.3) / i686 | OK | OK |  | 
| liverpool | Windows Server 2003 R2 (32-bit) / x64 | OK | OK | OK | 
| lemming | Windows Server 2003 (32-bit) / x64 | [ OK ] | OK | OK | 
* checking for file 'sizepower/DESCRIPTION' ... OK
* preparing 'sizepower':
* checking DESCRIPTION meta-information ... OK
* checking whether 'INDEX' is up-to-date ... NO
* use '--force' to overwrite the existing 'INDEX'
* installing the package to re-build vignettes
installing R.css in D:/biocbld/bbs-2.2-bioc/tmpdir/Rinst325629028
---------- Making package sizepower ------------
  adding build stamp to DESCRIPTION
  installing NAMESPACE file and metadata
  installing R files
  installing inst files
  installing man source files
  installing indices
  installing help
 >>> Building/Updating help pages for package 'sizepower'
     Formats: text html latex example chm 
  powerMatched                      text    html    latex   example chm
  powerMulti                        text    html    latex   example chm
  powerRandomized                   text    html    latex   example chm
  sampleSizeMatched                 text    html    latex   example chm
  sampleSizeRandomized              text    html    latex   example chm
Microsoft HTML Help Compiler 4.74.8702
Compiling d:\biocbld\bbs-2.2-bioc\meat\sizepower\chm\sizepower.chm
Compile time: 0 minutes, 0 seconds
6	Topics
30	Local links
5	Internet links
1	Graphic
Created d:\biocbld\bbs-2.2-bioc\meat\sizepower\chm\sizepower.chm, 21,664 bytes
Compression decreased file by 5,455 bytes.
  adding MD5 sums
* DONE (sizepower)
* creating vignettes ... OK
* removing junk files
* checking for LF line-endings in source and make files
* checking for empty or unneeded directories
* building 'sizepower_1.9.0.tar.gz'