| reb 1.13.0 Karl J. Dykema
 
 | Snapshot Date: 2007-12-11 00:09:07 -0800 (Tue, 11 Dec 2007) |  | URL: https://hedgehog.fhcrc.org/bioconductor/trunk/madman/Rpacks/reb |  | Last Changed Rev: 27716 / Revision: 29143 |  | Last Changed Date: 2007-10-02 18:16:39 -0700 (Tue, 02 Oct 2007) | 
 | lamb1 | Linux (SUSE 10.1) / x86_64 | OK | OK |  | 
| wilson2 | Linux (openSUSE 10.3) / x86_64 | OK | OK |  | 
| wellington | Linux (openSUSE 10.3) / i686 | OK | OK |  | 
| liverpool | Windows Server 2003 R2 (32-bit) / x64 | OK | OK | [ OK ] | 
| lemming | Windows Server 2003 (32-bit) / x64 | OK | OK | OK | 
installing R.css in E:/biocbld/bbs-2.2-bioc/meat/reb.buildbin-libdir
Using auto-selected zip options ''
---------- Making package reb ------------
  adding build stamp to DESCRIPTION
  installing NAMESPACE file and metadata
  making DLL ...
making movbin.d from movbin.c
gcc-sjlj  -std=gnu99  -IE:/biocbld/bbs-2.2-bioc/R/include     -O3 -Wall  -c movbin.c -o movbin.o
movbin.c: In function 'bcount':
movbin.c:37: warning: suggest parentheses around comparison in operand of &
movbin.c: In function 'bscore':
movbin.c:48: warning: implicit declaration of function 'sqrt'
movbin.c:48: warning: incompatible implicit declaration of built-in function 'sqrt'
movbin.c: In function 'mean':
movbin.c:63: warning: suggest parentheses around comparison in operand of &
movbin.c: In function 'mspan_mov_binom_mx':
movbin.c:128: warning: unused variable 'im_mx'
movbin.c: In function 'mspan_mov_binom':
movbin.c:145: warning: unused variable 'c'
movbin.c:145: warning: unused variable 'r'
movbin.c: In function 'main':
movbin.c:168: warning: unused variable 'nr'
movbin.c:166: warning: unused variable 'rlen'
movbin.c:163: warning: unused variable 'range'
movbin.c:162: warning: unused variable 'sum_mx'
movbin.c:162: warning: unused variable 'sum_vec'
movbin.c:161: warning: unused variable 'im_mx'
movbin.c:161: warning: unused variable 'im_vec'
movbin.c:160: warning: unused variable 'gx2'
movbin.c:158: warning: unused variable 'data'
windres --preprocessor="gcc-sjlj -E -xc -DRC_INVOKED" -I E:/biocbld/bbs-2.2-bioc/R/include  -i reb_res.rc -o reb_res.o
gcc-sjlj  -std=gnu99  -shared -s  -o reb.dll reb.def movbin.o reb_res.o  -LE:/biocbld/bbs-2.2-bioc/R/bin    -lR
  ... DLL made
  installing DLL
  installing R files
  installing inst files
  installing data files
  installing man source files
  installing indices
  not zipping data
  installing help
Note: removing empty section \value
Note: removing empty section \value
Note: removing empty section \note
Note: removing empty section \note
Note: unmatched right brace in 'regmap' on or after line 15
Note: removing empty section \value
Note: removing empty section \note
Note: removing empty section \references
Note: unmatched right brace in 'regmap.Rd' on or after line 15
Note: removing empty section \value
Note: removing empty section \note
Note: removing empty section \references
Note: removing empty section \note
Note: removing empty section \note
 >>> Building/Updating help pages for package 'reb'
     Formats: text html latex example chm 
  Hs.arms                           text    html    latex           chm
  absMax                            text    html    latex   example chm
  buildChromCytoband                text    html    latex   example chm
  buildChromMap                     text    html    latex   example chm
  cset2band                         text    html    latex   example chm
  fromRevIsh                        text    html    latex   example chm
  isAbnormal                        text    html    latex   example chm
  mcr.eset                          text    html    latex   example chm
  movbin                            text    html    latex   example chm
  movt                              text    html    latex   example chm
  naMean                            text    html    latex   example chm
  regmap                            text    html    latex   example chm
  revish                            text    html    latex   example chm
  rmAmbigMappings                   text    html    latex   example chm
  smoothByRegion                    text    html    latex   example chm
  summarizeByRegion                 text    html    latex   example chm
  tBinomTest                        text    html    latex   example chm
  writeGFF3                         text    html    latex   example chm
Microsoft HTML Help Compiler 4.74.8702
Compiling e:\biocbld\bbs-2.2-bioc\meat\R.INSTALL.4040\reb\chm\reb.chm
Compile time: 0 minutes, 0 seconds
19	Topics
51	Local links
0	Internet links
1	Graphic
Created e:\biocbld\bbs-2.2-bioc\meat\R.INSTALL.4040\reb\chm\reb.chm, 39,534 bytes
Compression decreased file by 22,759 bytes.
  adding MD5 sums
packaged installation of package 'reb' as reb_1.13.0.zip
* DONE (reb)