| rHVDM 1.5.0 Martino Barenco
 
 | Snapshot Date: 2007-12-11 00:09:07 -0800 (Tue, 11 Dec 2007) |  | URL: https://hedgehog.fhcrc.org/bioconductor/trunk/madman/Rpacks/rHVDM |  | Last Changed Rev: 27716 / Revision: 29143 |  | Last Changed Date: 2007-10-02 18:16:39 -0700 (Tue, 02 Oct 2007) | 
 | lamb1 | Linux (SUSE 10.1) / x86_64 | OK | OK |  | 
| wilson2 | Linux (openSUSE 10.3) / x86_64 | OK | OK |  | 
| wellington | Linux (openSUSE 10.3) / i686 | OK | OK |  | 
| liverpool | Windows Server 2003 R2 (32-bit) / x64 | OK | OK | [ OK ] | 
| lemming | Windows Server 2003 (32-bit) / x64 | OK | OK | OK | 
installing R.css in E:/biocbld/bbs-2.2-bioc/meat/rHVDM.buildbin-libdir
Using auto-selected zip options 'rHVDM-ZIPDATA=zip'
---------- Making package rHVDM ------------
  adding build stamp to DESCRIPTION
  installing R files
  installing inst files
  installing data files
  preparing package rHVDM for lazy loading
Loading required package: R2HTML
Loading required package: affy
Loading required package: Biobase
Loading required package: tools
Welcome to Bioconductor
  Vignettes contain introductory material. To view, type
  'openVignette()'. To cite Bioconductor, see
  'citation("Biobase")' and for packages 'citation(pkgname)'.
Loading required package: affyio
Loading required package: preprocessCore
Loading required package: minpack.lm
  installing man source files
  installing indices
  zipping data
  installing help
 >>> Building/Updating help pages for package 'rHVDM'
     Formats: text html latex example chm 
  HVDMcheck                         text    html    latex   example chm
  HVDMreport                        text    html    latex   example chm
  fitgene                           text    html    latex   example chm
  fiveGyMAS5                        text    html    latex           chm
  genestoscreen                     text    html    latex           chm
  p53traingenes                     text    html    latex           chm
  screening                         text    html    latex   example chm
  training                          text    html    latex   example chm
Microsoft HTML Help Compiler 4.74.8702
Compiling e:\biocbld\bbs-2.2-bioc\meat\R.INSTALL.5236\rHVDM\chm\rHVDM.chm
Compile time: 0 minutes, 0 seconds
9	Topics
30	Local links
0	Internet links
1	Graphic
Created e:\biocbld\bbs-2.2-bioc\meat\R.INSTALL.5236\rHVDM\chm\rHVDM.chm, 27,396 bytes
Compression decreased file by 4,298 bytes.
  adding MD5 sums
packaged installation of package 'rHVDM' as rHVDM_1.5.0.zip
* DONE (rHVDM)