| panp 1.9.0 Peter Warren
 
 | Snapshot Date: 2007-12-11 00:09:07 -0800 (Tue, 11 Dec 2007) |  | URL: https://hedgehog.fhcrc.org/bioconductor/trunk/madman/Rpacks/panp |  | Last Changed Rev: 27716 / Revision: 29143 |  | Last Changed Date: 2007-10-02 18:16:39 -0700 (Tue, 02 Oct 2007) | 
 | lamb1 | Linux (SUSE 10.1) / x86_64 | OK | OK |  | 
| wilson2 | Linux (openSUSE 10.3) / x86_64 | OK | OK |  | 
| wellington | Linux (openSUSE 10.3) / i686 | [ OK ] | OK |  | 
| liverpool | Windows Server 2003 R2 (32-bit) / x64 | OK | OK | OK | 
| lemming | Windows Server 2003 (32-bit) / x64 | OK | OK | OK | 
* checking for file 'panp/DESCRIPTION' ... OK
* preparing 'panp':
* checking DESCRIPTION meta-information ... OK
* installing the package to re-build vignettes
/tmp/Rinst2647335121
* Installing *source* package 'panp' ...
** R
** data
** inst
** help
 >>> Building/Updating help pages for package 'panp'
     Formats: text html latex example 
  NSMPnames.hgu133a                 text    html    latex
  NSMPnames.hgu133plus2             text    html    latex
  gcrma.ExpressionSet               text    html    latex
  pa.calls                          text    html    latex   example
** building package indices ...
* DONE (panp)
* creating vignettes ... OK
* removing junk files
* checking for LF line-endings in source and make files
* checking for empty or unneeded directories
* building 'panp_1.9.0.tar.gz'