oneChannelGUI 1.5.4 Raffaele A Calogero
 | Snapshot Date: 2007-12-11 00:09:07 -0800 (Tue, 11 Dec 2007) |  | URL: https://hedgehog.fhcrc.org/bioconductor/trunk/madman/Rpacks/oneChannelGUI |  | Last Changed Rev: 29107 / Revision: 29143 |  | Last Changed Date: 2007-12-07 22:54:35 -0800 (Fri, 07 Dec 2007) |  
  | lamb1  | Linux (SUSE 10.1) / x86_64  |  ERROR  |  skipped  |  | 
| wilson2  | Linux (openSUSE 10.3) / x86_64  | [ ERROR ] |  skipped  |  | 
| wellington  | Linux (openSUSE 10.3) / i686  |  ERROR  |  skipped  |  | 
| liverpool  | Windows Server 2003 R2 (32-bit) / x64  |  ERROR  |  skipped  |  skipped  | 
| lemming  | Windows Server 2003 (32-bit) / x64  |  ERROR  |  skipped  |  skipped  | 
* checking for file 'oneChannelGUI/DESCRIPTION' ... OK
* preparing 'oneChannelGUI':
* checking DESCRIPTION meta-information ... OK
* installing the package to re-build vignettes
/tmp/Rinst722665954
* Installing *source* package 'oneChannelGUI' ...
** R
** data
** inst
** preparing package for lazy loading
Loading required package: Biobase
Loading required package: tools
Welcome to Bioconductor
  Vignettes contain introductory material. To view, type
  'openVignette()'. To cite Bioconductor, see
  'citation("Biobase")' and for packages 'citation(pkgname)'.
Loading required package: affylmGUI
Loading required package: limma
Loading required package: tcltk
Loading Tcl/Tk interface ... done
Loading required package: affy
Loading required package: affyio
Loading required package: preprocessCore
Loading required package: tkWidgets
Loading required package: widgetTools
Loading required package: DynDoc
Error in parse(n = -1, file = file) : unexpected '}' at
7314: 
7315: }
Calls: <Anonymous> -> code2LazyLoadDB -> sys.source -> parse
Execution halted
ERROR: lazy loading failed for package 'oneChannelGUI'
** Removing '/tmp/Rinst722665954/oneChannelGUI'
 ERROR
Installation failed.
Removing '/tmp/Rinst722665954'