occugene 0.1.0 Oliver Will
 | Snapshot Date: 2007-12-11 00:09:07 -0800 (Tue, 11 Dec 2007) |  | URL: https://hedgehog.fhcrc.org/bioconductor/trunk/madman/Rpacks/occugene |  | Last Changed Rev: 28102 / Revision: 29143 |  | Last Changed Date: 2007-10-21 09:04:35 -0700 (Sun, 21 Oct 2007) |  
  | lamb1  | Linux (SUSE 10.1) / x86_64  |  OK  |  WARNINGS  |  | 
| wilson2  | Linux (openSUSE 10.3) / x86_64  |  OK  |  WARNINGS  |  | 
| wellington  | Linux (openSUSE 10.3) / i686  |  OK  |  WARNINGS  |  | 
| liverpool  | Windows Server 2003 R2 (32-bit) / x64  |  OK  |  WARNINGS  |  OK  | 
| lemming  | Windows Server 2003 (32-bit) / x64  |  OK  |  WARNINGS  | [ OK ] | 
installing R.css in D:/biocbld/bbs-2.2-bioc/meat/occugene.buildbin-libdir
Using auto-selected zip options ''
---------- Making package occugene ------------
  adding build stamp to DESCRIPTION
  installing NAMESPACE file and metadata
  installing R files
  installing inst files
  installing data files
  preparing package occugene for lazy loading
  installing man source files
  installing indices
  not zipping data
  installing help
Note: unmatched right brace in 'fCumul' on or after line 6
Note: unmatched right brace in 'fCumul.Rd' on or after line 6
 >>> Building/Updating help pages for package 'occugene'
     Formats: text html latex example chm 
  binHist                           text    html    latex   example chm
  binInsert                         text    html    latex   example chm
  binInsertHist                     text    html    latex   example chm
  checkFormat                       text    html    latex   example chm
  delta0                            text    html    latex   example chm
  eMult                             text    html    latex   example chm
  etDelta                           text    html    latex   example chm
  fCumul                            text    html    latex   example chm
  fFit                              text    html    latex   example chm
  loadAnnotation                    text    html    latex   example chm
  loadInsertions                    text    html    latex   example chm
  occup2Negenes                     text    html    latex   example chm
  sampleAnnotation                  text    html    latex           chm
  sampleInsertions                  text    html    latex           chm
  unbiasB0                          text    html    latex   example chm
  unbiasDelta0                      text    html    latex   example chm
  varMult                           text    html    latex   example chm
Microsoft HTML Help Compiler 4.74.8702
Compiling d:\biocbld\bbs-2.2-bioc\meat\R.INSTALL.5488\occugene\chm\occugene.chm
Compile time: 0 minutes, 0 seconds
18	Topics
34	Local links
0	Internet links
1	Graphic
Created d:\biocbld\bbs-2.2-bioc\meat\R.INSTALL.5488\occugene\chm\occugene.chm, 26,891 bytes
Compression decreased file by 18,117 bytes.
  adding MD5 sums
packaged installation of package 'occugene' as occugene_0.1.0.zip
* DONE (occugene)