makePlatformDesign 1.3.0 Benilton Carvalho
 | Snapshot Date: 2007-12-11 00:09:07 -0800 (Tue, 11 Dec 2007) |  | URL: https://hedgehog.fhcrc.org/bioconductor/trunk/madman/Rpacks/makePlatformDesign |  | Last Changed Rev: 28000 / Revision: 29143 |  | Last Changed Date: 2007-10-15 11:28:10 -0700 (Mon, 15 Oct 2007) |  
  | lamb1  | Linux (SUSE 10.1) / x86_64  |  OK  |  OK  |  | 
| wilson2  | Linux (openSUSE 10.3) / x86_64  |  OK  |  OK  |  | 
| wellington  | Linux (openSUSE 10.3) / i686  |  OK  |  OK  |  | 
| liverpool  | Windows Server 2003 R2 (32-bit) / x64  |  OK  |  OK  |  OK  | 
| lemming  | Windows Server 2003 (32-bit) / x64  |  OK  |  OK  | [ OK ] | 
installing R.css in D:/biocbld/bbs-2.2-bioc/meat/makePlatformDesign.buildbin-libdir
Using auto-selected zip options ''
---------- Making package makePlatformDesign ------------
  adding build stamp to DESCRIPTION
  making DLL ...
making matchprobes.d from matchprobes.c
making strutils.d from strutils.c
gcc  -std=gnu99  -ID:/biocbld/bbs-2.2-bioc/R/include     -O3 -Wall  -c matchprobes.c -o matchprobes.o
gcc  -std=gnu99  -ID:/biocbld/bbs-2.2-bioc/R/include     -O3 -Wall  -c strutils.c -o strutils.o
windres --preprocessor="gcc -E -xc -DRC_INVOKED" -I D:/biocbld/bbs-2.2-bioc/R/include  -i makePlatformDesign_res.rc -o makePlatformDesign_res.o
gcc  -std=gnu99  -shared -s  -o makePlatformDesign.dll makePlatformDesign.def matchprobes.o strutils.o makePlatformDesign_res.o  -LD:/biocbld/bbs-2.2-bioc/R/bin    -lR
  ... DLL made
  installing DLL
  installing R files
  installing inst files
  preparing package makePlatformDesign for lazy loading
Loading required package: affyio
Loading required package: oligo
Loading required package: Biobase
Loading required package: tools
Welcome to Bioconductor
  Vignettes contain introductory material. To view, type
  'openVignette()'. To cite Bioconductor, see
  'citation("Biobase")' and for packages 'citation(pkgname)'.
Loading required package: splines
Loading required package: RSQLite
Loading required package: DBI
Loading required package: preprocessCore
Loading required package: AnnotationDbi
Loading required package: affxparser
Loading required package: oligoClasses
This is the oligo package
  installing man source files
  installing indices
  installing help
 >>> Building/Updating help pages for package 'makePlatformDesign'
     Formats: text html latex example chm 
  makePDpackage                     text    html    latex   example chm
  makePlatformDesign-internal       text    html    latex           chm
Microsoft HTML Help Compiler 4.74.8702
Compiling d:\biocbld\bbs-2.2-bioc\meat\R.INSTALL.4176\makePlatformDesign\chm\makePlatformDesign.chm
Compile time: 0 minutes, 0 seconds
3	Topics
36	Local links
0	Internet links
1	Graphic
Created d:\biocbld\bbs-2.2-bioc\meat\R.INSTALL.4176\makePlatformDesign\chm\makePlatformDesign.chm, 18,981 bytes
Compression decreased file by 2,054 bytes.
  adding MD5 sums
packaged installation of package 'makePlatformDesign' as makePlatformDesign_1.3.0.zip
* DONE (makePlatformDesign)