| maCorrPlot 1.9.0 Alexander Ploner
 
 | Snapshot Date: 2007-12-11 00:09:07 -0800 (Tue, 11 Dec 2007) |  | URL: https://hedgehog.fhcrc.org/bioconductor/trunk/madman/Rpacks/maCorrPlot |  | Last Changed Rev: 27716 / Revision: 29143 |  | Last Changed Date: 2007-10-02 18:16:39 -0700 (Tue, 02 Oct 2007) | 
 | lamb1 | Linux (SUSE 10.1) / x86_64 | [ OK ] | OK |  | 
| wilson2 | Linux (openSUSE 10.3) / x86_64 | OK | OK |  | 
| wellington | Linux (openSUSE 10.3) / i686 | OK | OK |  | 
| liverpool | Windows Server 2003 R2 (32-bit) / x64 | OK | OK | OK | 
| lemming | Windows Server 2003 (32-bit) / x64 | OK | OK | OK | 
* checking for file 'maCorrPlot/DESCRIPTION' ... OK
* preparing 'maCorrPlot':
* checking DESCRIPTION meta-information ... OK
* installing the package to re-build vignettes
* Installing *source* package 'maCorrPlot' ...
** R
** data
** inst
** help
 >>> Building/Updating help pages for package 'maCorrPlot'
     Formats: text html latex example 
  CorrSample                        text    html    latex   example
  CutCI                             text    html    latex   example
  oligodata                         text    html    latex   example
  plot.corr.sample                  text    html    latex   example
** building package indices ...
* DONE (maCorrPlot)
* creating vignettes ... OK
* removing junk files
* checking for LF line-endings in source and make files
* checking for empty or unneeded directories
* building 'maCorrPlot_1.9.0.tar.gz'