hypergraph 1.11.0 Robert Gentleman
 | Snapshot Date: 2007-12-11 00:09:07 -0800 (Tue, 11 Dec 2007) |  | URL: https://hedgehog.fhcrc.org/bioconductor/trunk/madman/Rpacks/hypergraph |  | Last Changed Rev: 27716 / Revision: 29143 |  | Last Changed Date: 2007-10-02 18:16:39 -0700 (Tue, 02 Oct 2007) |  
  | lamb1  | Linux (SUSE 10.1) / x86_64  |  OK  | [ OK ] |  | 
| wilson2  | Linux (openSUSE 10.3) / x86_64  |  OK  |  OK  |  | 
| wellington  | Linux (openSUSE 10.3) / i686  |  OK  |  OK  |  | 
| liverpool  | Windows Server 2003 R2 (32-bit) / x64  |  OK  |  OK  |  OK  | 
| lemming  | Windows Server 2003 (32-bit) / x64  |  OK  |  OK  |  OK  | 
* checking for working latex ... OK
* using log directory '/home/biocbuild/bbs-2.2-bioc/meat/hypergraph.Rcheck'
* using R version 2.7.0 Under development (unstable) (2007-11-18 r43497)
* checking for file 'hypergraph/DESCRIPTION' ... OK
* this is package 'hypergraph' version '1.11.0'
* checking package name space information ... OK
* checking package dependencies ... OK
* checking if this is a source package ... OK
* checking whether package 'hypergraph' can be installed ... OK
* checking package directory ... OK
* checking for portable file names ... OK
* checking for sufficient/correct file permissions ... OK
* checking DESCRIPTION meta-information ... OK
* checking top-level files ... OK
* checking index information ... OK
* checking package subdirectories ... OK
* checking R files for non-ASCII characters ... OK
* checking R files for syntax errors ... OK
* checking whether the package can be loaded ... OK
* checking whether the package can be loaded with stated dependencies ... OK
* checking whether the name space can be loaded with stated dependencies ... OK
* checking for unstated dependencies in R code ... OK
* checking S3 generic/method consistency ... OK
* checking replacement functions ... OK
* checking foreign function calls ... OK
* checking R code for possible problems ... OK
* checking Rd files ... OK
* checking Rd cross-references ... OK
* checking for missing documentation entries ... OK
* checking for code/documentation mismatches ... OK
* checking Rd \usage sections ... OK
* creating hypergraph-Ex.R ... OK
* checking examples ... OK
* creating hypergraph-manual.tex ... OK
* checking hypergraph-manual.tex ... OK
 
* Installing *source* package 'hypergraph' ...
** R
** inst
** preparing package for lazy loading
Loading required package: graph
** help
Note: removing empty section \seealso
Note: removing empty section \seealso
 >>> Building/Updating help pages for package 'hypergraph'
     Formats: text html latex example 
  DirectedHyperedge-class           text    html    latex   example
  DirectedHyperedge                 text    html    latex
  Hyperedge-class                   text    html    latex   example
  Hyperedge                         text    html    latex
  Hypergraph-class                  text    html    latex   example
  Hypergraph                        text    html    latex
  kCores                            text    html    latex   example
  l2hel                             text    html    latex   example
  vCover                            text    html    latex   example
** building package indices ...
* DONE (hypergraph)