goTools 1.11.0 Agnes Paquet
 | Snapshot Date: 2007-12-11 00:09:07 -0800 (Tue, 11 Dec 2007) |  | URL: https://hedgehog.fhcrc.org/bioconductor/trunk/madman/Rpacks/goTools |  | Last Changed Rev: 27716 / Revision: 29143 |  | Last Changed Date: 2007-10-02 18:16:39 -0700 (Tue, 02 Oct 2007) |  
  | lamb1  | Linux (SUSE 10.1) / x86_64  |  OK  |  OK  |  | 
| wilson2  | Linux (openSUSE 10.3) / x86_64  |  OK  |  OK  |  | 
| wellington  | Linux (openSUSE 10.3) / i686  |  OK  |  OK  |  | 
| liverpool  | Windows Server 2003 R2 (32-bit) / x64  |  OK  |  OK  |  OK  | 
| lemming  | Windows Server 2003 (32-bit) / x64  | [ OK ] |  OK  |  OK  | 
* checking for file 'goTools/DESCRIPTION' ... OK
* preparing 'goTools':
* checking DESCRIPTION meta-information ... OK
* checking whether 'INDEX' is up-to-date ... NO
* use '--force' to overwrite the existing 'INDEX'
* installing the package to re-build vignettes
installing R.css in D:/biocbld/bbs-2.2-bioc/tmpdir/Rinst323654629
---------- Making package goTools ------------
  adding build stamp to DESCRIPTION
  installing R files
  installing inst files
  installing data files
  preparing package goTools for lazy loading
Loading required package: Biobase
Loading required package: tools
Welcome to Bioconductor
  Vignettes contain introductory material. To view, type
  'openVignette()'. To cite Bioconductor, see
  'citation("Biobase")' and for packages 'citation(pkgname)'.
Loading required package: annotate
Loading required package: AnnotationDbi
Loading required package: DBI
Loading required package: RSQLite
Loading required package: xtable
Loading required package: GO
  installing man source files
  installing indices
  not zipping data
  installing help
 >>> Building/Updating help pages for package 'goTools'
     Formats: text html latex example chm 
  EndNodeList                       text    html    latex   example chm
  goTools-internal                  text    html    latex           chm
  ontoCompare                       text    html    latex   example chm
  probeID                           text    html    latex           chm
Microsoft HTML Help Compiler 4.74.8702
Compiling d:\biocbld\bbs-2.2-bioc\meat\goTools\chm\goTools.chm
Compile time: 0 minutes, 0 seconds
5	Topics
26	Local links
0	Internet links
1	Graphic
Created d:\biocbld\bbs-2.2-bioc\meat\goTools\chm\goTools.chm, 19,992 bytes
Compression increased file by 1,089 bytes.
  adding MD5 sums
* DONE (goTools)
* creating vignettes ... OK
* removing junk files
* checking for LF line-endings in source and make files
* checking for empty or unneeded directories
* building 'goTools_1.11.0.tar.gz'